BEGIN:VCALENDAR
VERSION:2.0
PRODID:-//Ed Snider - ECPv6.15.20//NONSGML v1.0//EN
CALSCALE:GREGORIAN
METHOD:PUBLISH
X-WR-CALNAME:Ed Snider
X-ORIGINAL-URL:https://sniderhockey.org
X-WR-CALDESC:Events for Ed Snider
REFRESH-INTERVAL;VALUE=DURATION:PT1H
X-Robots-Tag:noindex
X-PUBLISHED-TTL:PT1H
BEGIN:VTIMEZONE
TZID:UTC
BEGIN:STANDARD
TZOFFSETFROM:+0000
TZOFFSETTO:+0000
TZNAME:UTC
DTSTART:20250101T000000
END:STANDARD
END:VTIMEZONE
BEGIN:VEVENT
DTSTART;VALUE=DATE:20260421
DTEND;VALUE=DATE:20260422
DTSTAMP:20260421T014507
CREATED:20260331T171956Z
LAST-MODIFIED:20260331T172058Z
UID:10007871-1776729600-1776815999@sniderhockey.org
SUMMARY:RINK CLOSED FOR THE SUMMER
DESCRIPTION:
URL:https://sniderhockey.org/event/rink-closed-for-the-summer/2026-04-21/
LOCATION:PA
CATEGORIES:Simons Recreation Center
ATTACH;FMTTYPE=image/jpeg:https://sniderhockey.org/wp-content/uploads/2024/04/Rink-Closed.jpg
END:VEVENT
BEGIN:VEVENT
DTSTART;TZID=UTC:20260421T163000
DTEND;TZID=UTC:20260421T173000
DTSTAMP:20260421T014507
CREATED:20260320T175045Z
LAST-MODIFIED:20260320T175045Z
UID:10007318-1776789000-1776792600@sniderhockey.org
SUMMARY:Learn To Skate
DESCRIPTION:
URL:https://sniderhockey.org/event/learn-to-skate-122/2026-04-21/
LOCATION:Class of 1923 Arena at UPenn (University City)\, 3130 Walnut Street Philadelphia\, PA 19104\, Philadelphia\, PA\, United States
CATEGORIES:Class of 1923 Arena at UPenn
ATTACH;FMTTYPE=image/jpeg:https://sniderhockey.org/wp-content/uploads/2025/08/Learn-to-Skate.jpg
END:VEVENT
BEGIN:VEVENT
DTSTART;TZID=UTC:20260421T163000
DTEND;TZID=UTC:20260421T173000
DTSTAMP:20260421T014507
CREATED:20260324T154247Z
LAST-MODIFIED:20260324T154247Z
UID:10007784-1776789000-1776792600@sniderhockey.org
SUMMARY:SHL/Travel 10u\, 12u\, & 14u Skills Clinic
DESCRIPTION:
URL:https://sniderhockey.org/event/shl-travel-10u-12u-14u-skills-clinic/2026-04-21/
LOCATION:Tarken Recreation Center (Oxford Circle)\, 6250 Frontenac Street Philadelphia\, PA 19111\, Philadelphia\, PA\, United States
CATEGORIES:Tarken Recreation Center
ATTACH;FMTTYPE=image/jpeg:https://sniderhockey.org/wp-content/uploads/2025/08/Skills-Session.jpg
END:VEVENT
BEGIN:VEVENT
DTSTART;TZID=UTC:20260421T163000
DTEND;TZID=UTC:20260421T173000
DTSTAMP:20260421T014507
CREATED:20260324T180117Z
LAST-MODIFIED:20260324T180117Z
UID:10007826-1776789000-1776792600@sniderhockey.org
SUMMARY:Learn To Skate
DESCRIPTION:
URL:https://sniderhockey.org/event/learn-to-skate-132/2026-04-21/
LOCATION:Scanlon Recreation Center (Kensington)\, 1099 E. Venango Street Philadelphia\, PA 19134\, Philadelphia\, PA\, United States
CATEGORIES:Scanlon Recreation Center
ATTACH;FMTTYPE=image/jpeg:https://sniderhockey.org/wp-content/uploads/2025/08/Learn-to-Skate.jpg
END:VEVENT
BEGIN:VEVENT
DTSTART;TZID=UTC:20260421T163000
DTEND;TZID=UTC:20260421T180000
DTSTAMP:20260421T014507
CREATED:20260323T172744Z
LAST-MODIFIED:20260323T173209Z
UID:10007687-1776789000-1776794400@sniderhockey.org
SUMMARY:Learn To Skate
DESCRIPTION:
URL:https://sniderhockey.org/event/learn-to-skate-130/2026-04-21/
LOCATION:Laura Sims Skate House (West Philadelphia)\, 200 S. 63rd Street Philadelphia\, PA 19139\, Philadelphia\, PA\, United States
CATEGORIES:Laura Sims Skate House
ATTACH;FMTTYPE=image/jpeg:https://sniderhockey.org/wp-content/uploads/2025/08/Learn-to-Skate.jpg
END:VEVENT
BEGIN:VEVENT
DTSTART;TZID=UTC:20260421T173000
DTEND;TZID=UTC:20260421T183000
DTSTAMP:20260421T014507
CREATED:20260324T152112Z
LAST-MODIFIED:20260324T152112Z
UID:10007762-1776792600-1776796200@sniderhockey.org
SUMMARY:Learn To Skate
DESCRIPTION:
URL:https://sniderhockey.org/event/learn-to-skate-131/2026-04-21/
LOCATION:Tarken Recreation Center (Oxford Circle)\, 6250 Frontenac Street Philadelphia\, PA 19111\, Philadelphia\, PA\, United States
CATEGORIES:Tarken Recreation Center
ATTACH;FMTTYPE=image/jpeg:https://sniderhockey.org/wp-content/uploads/2025/08/Learn-to-Skate.jpg
END:VEVENT
BEGIN:VEVENT
DTSTART;TZID=UTC:20260421T174000
DTEND;TZID=UTC:20260421T184000
DTSTAMP:20260421T014507
CREATED:20260320T175611Z
LAST-MODIFIED:20260320T175611Z
UID:10007326-1776793200-1776796800@sniderhockey.org
SUMMARY:Learn To Play\, SHL/Travel 6u & 8u Stick Skills
DESCRIPTION:
URL:https://sniderhockey.org/event/learn-to-play-shl-travel-6u-8u-stick-skills/2026-04-21/
LOCATION:Class of 1923 Arena at UPenn (University City)\, 3130 Walnut Street Philadelphia\, PA 19104\, Philadelphia\, PA\, United States
CATEGORIES:Class of 1923 Arena at UPenn
ATTACH;FMTTYPE=image/jpeg:https://sniderhockey.org/wp-content/uploads/2025/08/Learn-to-Play.jpg
END:VEVENT
BEGIN:VEVENT
DTSTART;TZID=UTC:20260421T174500
DTEND;TZID=UTC:20260421T190000
DTSTAMP:20260421T014507
CREATED:20260324T180240Z
LAST-MODIFIED:20260324T180240Z
UID:10007832-1776793500-1776798000@sniderhockey.org
SUMMARY:SHL/Travel 10u & 12u Powerskating Clinic
DESCRIPTION:
URL:https://sniderhockey.org/event/shl-travel-10u-12u-powerskating-clinic/2026-04-21/
LOCATION:Scanlon Recreation Center (Kensington)\, 1099 E. Venango Street Philadelphia\, PA 19134\, Philadelphia\, PA\, United States
CATEGORIES:Scanlon Recreation Center
ATTACH;FMTTYPE=image/jpeg:https://sniderhockey.org/wp-content/uploads/2025/08/Skills-Session.jpg
END:VEVENT
BEGIN:VEVENT
DTSTART;TZID=UTC:20260421T180000
DTEND;TZID=UTC:20260421T190000
DTSTAMP:20260421T014507
CREATED:20260323T175143Z
LAST-MODIFIED:20260323T175143Z
UID:10007720-1776794400-1776798000@sniderhockey.org
SUMMARY:SHL/Travel 11 and Under Skating Clinic
DESCRIPTION:
URL:https://sniderhockey.org/event/shl-travel-11-and-under-skating-clinic-4/2026-04-21/
LOCATION:Laura Sims Skate House (West Philadelphia)\, 200 S. 63rd Street Philadelphia\, PA 19139\, Philadelphia\, PA\, United States
CATEGORIES:Laura Sims Skate House
ATTACH;FMTTYPE=image/jpeg:https://sniderhockey.org/wp-content/uploads/2025/08/Skills-Session.jpg
END:VEVENT
BEGIN:VEVENT
DTSTART;TZID=UTC:20260421T190000
DTEND;TZID=UTC:20260421T200000
DTSTAMP:20260421T014507
CREATED:20260324T152321Z
LAST-MODIFIED:20260324T153813Z
UID:10007778-1776798000-1776801600@sniderhockey.org
SUMMARY:DVHL 12u
DESCRIPTION:
URL:https://sniderhockey.org/event/dvhl-12u-8/2026-04-21/
LOCATION:Tarken Recreation Center (Oxford Circle)\, 6250 Frontenac Street Philadelphia\, PA 19111\, Philadelphia\, PA\, United States
CATEGORIES:Tarken Recreation Center
ATTACH;FMTTYPE=image/jpeg:https://sniderhockey.org/wp-content/uploads/2025/08/Travel-Session.jpg
END:VEVENT
BEGIN:VEVENT
DTSTART;TZID=UTC:20260421T190000
DTEND;TZID=UTC:20260421T201500
DTSTAMP:20260421T014507
CREATED:20260324T180811Z
LAST-MODIFIED:20260324T181946Z
UID:10007841-1776798000-1776802500@sniderhockey.org
SUMMARY:DVHL Travel 10u
DESCRIPTION:
URL:https://sniderhockey.org/event/dvhl-travel-10u/2026-04-21/
LOCATION:Scanlon Recreation Center (Kensington)\, 1099 E. Venango Street Philadelphia\, PA 19134\, Philadelphia\, PA\, United States
CATEGORIES:Scanlon Recreation Center
ATTACH;FMTTYPE=image/jpeg:https://sniderhockey.org/wp-content/uploads/2025/08/Travel-Session.jpg
END:VEVENT
BEGIN:VEVENT
DTSTART;TZID=UTC:20260421T191500
DTEND;TZID=UTC:20260421T201500
DTSTAMP:20260421T014507
CREATED:20260323T174829Z
LAST-MODIFIED:20260323T174829Z
UID:10007715-1776798900-1776802500@sniderhockey.org
SUMMARY:14u & 16u Travel Clinic
DESCRIPTION:
URL:https://sniderhockey.org/event/14u-16u-travel-clinic/2026-04-21/
LOCATION:Laura Sims Skate House (West Philadelphia)\, 200 S. 63rd Street Philadelphia\, PA 19139\, Philadelphia\, PA\, United States
CATEGORIES:Laura Sims Skate House
ATTACH;FMTTYPE=image/jpeg:https://sniderhockey.org/wp-content/uploads/2025/08/Travel-Session.jpg
END:VEVENT
END:VCALENDAR