BEGIN:VCALENDAR
VERSION:2.0
PRODID:-//Ed Snider - ECPv6.15.20//NONSGML v1.0//EN
CALSCALE:GREGORIAN
METHOD:PUBLISH
X-WR-CALNAME:Ed Snider
X-ORIGINAL-URL:https://sniderhockey.org
X-WR-CALDESC:Events for Ed Snider
REFRESH-INTERVAL;VALUE=DURATION:PT1H
X-Robots-Tag:noindex
X-PUBLISHED-TTL:PT1H
BEGIN:VTIMEZONE
TZID:UTC
BEGIN:STANDARD
TZOFFSETFROM:+0000
TZOFFSETTO:+0000
TZNAME:UTC
DTSTART:20250101T000000
END:STANDARD
END:VTIMEZONE
BEGIN:VEVENT
DTSTART;VALUE=DATE:20260422
DTEND;VALUE=DATE:20260423
DTSTAMP:20260422T093256
CREATED:20260331T171956Z
LAST-MODIFIED:20260331T172058Z
UID:10007872-1776816000-1776902399@sniderhockey.org
SUMMARY:RINK CLOSED FOR THE SUMMER
DESCRIPTION:
URL:https://sniderhockey.org/event/rink-closed-for-the-summer/2026-04-22/
LOCATION:PA
CATEGORIES:Simons Recreation Center
ATTACH;FMTTYPE=image/jpeg:https://sniderhockey.org/wp-content/uploads/2024/04/Rink-Closed.jpg
END:VEVENT
BEGIN:VEVENT
DTSTART;TZID=UTC:20260422T163000
DTEND;TZID=UTC:20260422T173000
DTSTAMP:20260422T093256
CREATED:20260320T175045Z
LAST-MODIFIED:20260320T175045Z
UID:10007319-1776875400-1776879000@sniderhockey.org
SUMMARY:Learn To Skate
DESCRIPTION:
URL:https://sniderhockey.org/event/learn-to-skate-122/2026-04-22/
LOCATION:Class of 1923 Arena at UPenn (University City)\, 3130 Walnut Street Philadelphia\, PA 19104\, Philadelphia\, PA\, United States
CATEGORIES:Class of 1923 Arena at UPenn
ATTACH;FMTTYPE=image/jpeg:https://sniderhockey.org/wp-content/uploads/2025/08/Learn-to-Skate.jpg
END:VEVENT
BEGIN:VEVENT
DTSTART;TZID=UTC:20260422T163000
DTEND;TZID=UTC:20260422T173000
DTSTAMP:20260422T093256
CREATED:20260323T173828Z
LAST-MODIFIED:20260323T173828Z
UID:10007697-1776875400-1776879000@sniderhockey.org
SUMMARY:SHL/Travel 12 and Up Small Area Games
DESCRIPTION:
URL:https://sniderhockey.org/event/shl-travel-12-and-up-small-area-games-4/2026-04-22/
LOCATION:Laura Sims Skate House (West Philadelphia)\, 200 S. 63rd Street Philadelphia\, PA 19139\, Philadelphia\, PA\, United States
CATEGORIES:Laura Sims Skate House
ATTACH;FMTTYPE=image/jpeg:https://sniderhockey.org/wp-content/uploads/2025/08/Skills-Session.jpg
END:VEVENT
BEGIN:VEVENT
DTSTART;TZID=UTC:20260422T163000
DTEND;TZID=UTC:20260422T173000
DTSTAMP:20260422T093256
CREATED:20260324T150908Z
LAST-MODIFIED:20260324T150908Z
UID:10007742-1776875400-1776879000@sniderhockey.org
SUMMARY:SHL/Travel 8u & 10u Skills Clinic
DESCRIPTION:
URL:https://sniderhockey.org/event/shl-travel-8u-10u-skills-clinic/2026-04-22/
LOCATION:Tarken Recreation Center (Oxford Circle)\, 6250 Frontenac Street Philadelphia\, PA 19111\, Philadelphia\, PA\, United States
CATEGORIES:Tarken Recreation Center
ATTACH;FMTTYPE=image/jpeg:https://sniderhockey.org/wp-content/uploads/2025/08/Skills-Session.jpg
END:VEVENT
BEGIN:VEVENT
DTSTART;TZID=UTC:20260422T163000
DTEND;TZID=UTC:20260422T173000
DTSTAMP:20260422T093256
CREATED:20260324T175602Z
LAST-MODIFIED:20260324T181757Z
UID:10007810-1776875400-1776879000@sniderhockey.org
SUMMARY:Learn To Play
DESCRIPTION:
URL:https://sniderhockey.org/event/learn-to-play-156/2026-04-22/
LOCATION:Scanlon Recreation Center (Kensington)\, 1099 E. Venango Street Philadelphia\, PA 19134\, Philadelphia\, PA\, United States
CATEGORIES:Scanlon Recreation Center
ATTACH;FMTTYPE=image/jpeg:https://sniderhockey.org/wp-content/uploads/2025/08/Learn-to-Play.jpg
END:VEVENT
BEGIN:VEVENT
DTSTART;TZID=UTC:20260422T173000
DTEND;TZID=UTC:20260422T183000
DTSTAMP:20260422T093256
CREATED:20260320T175908Z
LAST-MODIFIED:20260320T175908Z
UID:10007330-1776879000-1776882600@sniderhockey.org
SUMMARY:SHL/Travel 10u\, 12u & 14u Stick Skills
DESCRIPTION:
URL:https://sniderhockey.org/event/shl-travel-10u-12u-14u-stick-skills/2026-04-22/
LOCATION:Class of 1923 Arena at UPenn (University City)\, 3130 Walnut Street Philadelphia\, PA 19104\, Philadelphia\, PA\, United States
CATEGORIES:Class of 1923 Arena at UPenn
ATTACH;FMTTYPE=image/jpeg:https://sniderhockey.org/wp-content/uploads/2025/08/Skills-Session.jpg
END:VEVENT
BEGIN:VEVENT
DTSTART;TZID=UTC:20260422T173000
DTEND;TZID=UTC:20260422T183000
DTSTAMP:20260422T093256
CREATED:20260323T174159Z
LAST-MODIFIED:20260323T174159Z
UID:10007702-1776879000-1776882600@sniderhockey.org
SUMMARY:Learn To Play
DESCRIPTION:
URL:https://sniderhockey.org/event/learn-to-play-153/2026-04-22/
LOCATION:Laura Sims Skate House (West Philadelphia)\, 200 S. 63rd Street Philadelphia\, PA 19139\, Philadelphia\, PA\, United States
CATEGORIES:Laura Sims Skate House
ATTACH;FMTTYPE=image/jpeg:https://sniderhockey.org/wp-content/uploads/2025/08/Learn-to-Play.jpg
END:VEVENT
BEGIN:VEVENT
DTSTART;TZID=UTC:20260422T173000
DTEND;TZID=UTC:20260422T183000
DTSTAMP:20260422T093256
CREATED:20260324T151013Z
LAST-MODIFIED:20260324T151013Z
UID:10007747-1776879000-1776882600@sniderhockey.org
SUMMARY:Learn To Play
DESCRIPTION:
URL:https://sniderhockey.org/event/learn-to-play-154/2026-04-22/
LOCATION:Tarken Recreation Center (Oxford Circle)\, 6250 Frontenac Street Philadelphia\, PA 19111\, Philadelphia\, PA\, United States
CATEGORIES:Tarken Recreation Center
ATTACH;FMTTYPE=image/jpeg:https://sniderhockey.org/wp-content/uploads/2025/08/Learn-to-Play.jpg
END:VEVENT
BEGIN:VEVENT
DTSTART;TZID=UTC:20260422T173000
DTEND;TZID=UTC:20260422T183000
DTSTAMP:20260422T093256
CREATED:20260324T180919Z
LAST-MODIFIED:20260324T180919Z
UID:10007846-1776879000-1776882600@sniderhockey.org
SUMMARY:SHL/Travel 6u\, 8u & 10u Powerskating
DESCRIPTION:
URL:https://sniderhockey.org/event/shl-travel-6u-8u-10u-powerskating/2026-04-22/
LOCATION:Scanlon Recreation Center (Kensington)\, 1099 E. Venango Street Philadelphia\, PA 19134\, Philadelphia\, PA\, United States
CATEGORIES:Scanlon Recreation Center
ATTACH;FMTTYPE=image/jpeg:https://sniderhockey.org/wp-content/uploads/2025/08/Skills-Session.jpg
END:VEVENT
END:VCALENDAR