BEGIN:VCALENDAR
VERSION:2.0
PRODID:-//Ed Snider - ECPv6.15.20//NONSGML v1.0//EN
CALSCALE:GREGORIAN
METHOD:PUBLISH
X-ORIGINAL-URL:https://sniderhockey.org
X-WR-CALDESC:Events for Ed Snider
REFRESH-INTERVAL;VALUE=DURATION:PT1H
X-Robots-Tag:noindex
X-PUBLISHED-TTL:PT1H
BEGIN:VTIMEZONE
TZID:UTC
BEGIN:STANDARD
TZOFFSETFROM:+0000
TZOFFSETTO:+0000
TZNAME:UTC
DTSTART:20250101T000000
END:STANDARD
END:VTIMEZONE
BEGIN:VEVENT
DTSTART;TZID=UTC:20260507T163000
DTEND;TZID=UTC:20260507T180000
DTSTAMP:20260421T020905
CREATED:20260420T153533Z
LAST-MODIFIED:20260420T153533Z
UID:10008274-1778171400-1778176800@sniderhockey.org
SUMMARY:End of Year Free Skate
DESCRIPTION:
URL:https://sniderhockey.org/event/end-of-year-free-skate/
LOCATION:Class of 1923 Arena at UPenn (University City)\, 3130 Walnut Street Philadelphia\, PA 19104\, Philadelphia\, PA\, United States
CATEGORIES:Class of 1923 Arena at UPenn
ATTACH;FMTTYPE=image/jpeg:https://sniderhockey.org/wp-content/uploads/2025/08/Class-of-23.jpg
END:VEVENT
BEGIN:VEVENT
DTSTART;TZID=UTC:20260507T163000
DTEND;TZID=UTC:20260507T183000
DTSTAMP:20260421T020905
CREATED:20260420T153622Z
LAST-MODIFIED:20260420T153622Z
UID:10008275-1778171400-1778178600@sniderhockey.org
SUMMARY:End of Year Party
DESCRIPTION:
URL:https://sniderhockey.org/event/end-of-year-party/
LOCATION:Class of 1923 Arena at UPenn (University City)\, 3130 Walnut Street Philadelphia\, PA 19104\, Philadelphia\, PA\, United States
CATEGORIES:Class of 1923 Arena at UPenn
ATTACH;FMTTYPE=image/jpeg:https://sniderhockey.org/wp-content/uploads/2025/08/Class-of-23.jpg
END:VEVENT
BEGIN:VEVENT
DTSTART;TZID=UTC:20260508T162500
DTEND;TZID=UTC:20260508T174500
DTSTAMP:20260421T020906
CREATED:20260420T153726Z
LAST-MODIFIED:20260420T153726Z
UID:10008276-1778257500-1778262300@sniderhockey.org
SUMMARY:SHL/Travel 10u\, 12u & 14u
DESCRIPTION:
URL:https://sniderhockey.org/event/shl-travel-10u-12u-14u-5/
LOCATION:Class of 1923 Arena at UPenn (University City)\, 3130 Walnut Street Philadelphia\, PA 19104\, Philadelphia\, PA\, United States
CATEGORIES:Class of 1923 Arena at UPenn
ATTACH;FMTTYPE=image/jpeg:https://sniderhockey.org/wp-content/uploads/2025/08/Junior.jpg
END:VEVENT
BEGIN:VEVENT
DTSTART;TZID=UTC:20260508T175500
DTEND;TZID=UTC:20260508T190500
DTSTAMP:20260421T020906
CREATED:20260420T153820Z
LAST-MODIFIED:20260420T153820Z
UID:10008277-1778262900-1778267100@sniderhockey.org
SUMMARY:Learn To Skate
DESCRIPTION:
URL:https://sniderhockey.org/event/learn-to-skate-133/
LOCATION:Class of 1923 Arena at UPenn (University City)\, 3130 Walnut Street Philadelphia\, PA 19104\, Philadelphia\, PA\, United States
CATEGORIES:Class of 1923 Arena at UPenn
ATTACH;FMTTYPE=image/jpeg:https://sniderhockey.org/wp-content/uploads/2025/08/Learn-to-Skate.jpg
END:VEVENT
BEGIN:VEVENT
DTSTART;TZID=UTC:20260509T111000
DTEND;TZID=UTC:20260509T125000
DTSTAMP:20260421T020906
CREATED:20260420T153919Z
LAST-MODIFIED:20260420T153919Z
UID:10008278-1778325000-1778331000@sniderhockey.org
SUMMARY:Learn To Skate & Learn To Play
DESCRIPTION:
URL:https://sniderhockey.org/event/learn-to-skate-learn-to-play-39/
LOCATION:Class of 1923 Arena at UPenn (University City)\, 3130 Walnut Street Philadelphia\, PA 19104\, Philadelphia\, PA\, United States
CATEGORIES:Class of 1923 Arena at UPenn
ATTACH;FMTTYPE=image/jpeg:https://sniderhockey.org/wp-content/uploads/2025/08/Learn-to-Skate.jpg
END:VEVENT
BEGIN:VEVENT
DTSTART;VALUE=DATE:20260510
DTEND;VALUE=DATE:20260511
DTSTAMP:20260421T020906
CREATED:20260420T150229Z
LAST-MODIFIED:20260420T154028Z
UID:10008248-1778371200-1778457599@sniderhockey.org
SUMMARY:NO PROGRAMMING CLOSED FOR SUMMER
DESCRIPTION:
URL:https://sniderhockey.org/event/programming-closed-for-summer/2026-05-10/
LOCATION:Class of 1923 Arena at UPenn (University City)\, 3130 Walnut Street Philadelphia\, PA 19104\, Philadelphia\, PA\, United States
CATEGORIES:Class of 1923 Arena at UPenn
ATTACH;FMTTYPE=image/jpeg:https://sniderhockey.org/wp-content/uploads/2024/04/Rink-Closed.jpg
END:VEVENT
BEGIN:VEVENT
DTSTART;VALUE=DATE:20260511
DTEND;VALUE=DATE:20260512
DTSTAMP:20260421T020906
CREATED:20260420T150229Z
LAST-MODIFIED:20260420T154028Z
UID:10008249-1778457600-1778543999@sniderhockey.org
SUMMARY:NO PROGRAMMING CLOSED FOR SUMMER
DESCRIPTION:
URL:https://sniderhockey.org/event/programming-closed-for-summer/2026-05-11/
LOCATION:Class of 1923 Arena at UPenn (University City)\, 3130 Walnut Street Philadelphia\, PA 19104\, Philadelphia\, PA\, United States
CATEGORIES:Class of 1923 Arena at UPenn
ATTACH;FMTTYPE=image/jpeg:https://sniderhockey.org/wp-content/uploads/2024/04/Rink-Closed.jpg
END:VEVENT
BEGIN:VEVENT
DTSTART;VALUE=DATE:20260512
DTEND;VALUE=DATE:20260513
DTSTAMP:20260421T020906
CREATED:20260420T150229Z
LAST-MODIFIED:20260420T154028Z
UID:10008250-1778544000-1778630399@sniderhockey.org
SUMMARY:NO PROGRAMMING CLOSED FOR SUMMER
DESCRIPTION:
URL:https://sniderhockey.org/event/programming-closed-for-summer/2026-05-12/
LOCATION:Class of 1923 Arena at UPenn (University City)\, 3130 Walnut Street Philadelphia\, PA 19104\, Philadelphia\, PA\, United States
CATEGORIES:Class of 1923 Arena at UPenn
ATTACH;FMTTYPE=image/jpeg:https://sniderhockey.org/wp-content/uploads/2024/04/Rink-Closed.jpg
END:VEVENT
BEGIN:VEVENT
DTSTART;VALUE=DATE:20260513
DTEND;VALUE=DATE:20260514
DTSTAMP:20260421T020906
CREATED:20260420T150229Z
LAST-MODIFIED:20260420T154028Z
UID:10008251-1778630400-1778716799@sniderhockey.org
SUMMARY:NO PROGRAMMING CLOSED FOR SUMMER
DESCRIPTION:
URL:https://sniderhockey.org/event/programming-closed-for-summer/2026-05-13/
LOCATION:Class of 1923 Arena at UPenn (University City)\, 3130 Walnut Street Philadelphia\, PA 19104\, Philadelphia\, PA\, United States
CATEGORIES:Class of 1923 Arena at UPenn
ATTACH;FMTTYPE=image/jpeg:https://sniderhockey.org/wp-content/uploads/2024/04/Rink-Closed.jpg
END:VEVENT
BEGIN:VEVENT
DTSTART;VALUE=DATE:20260514
DTEND;VALUE=DATE:20260515
DTSTAMP:20260421T020906
CREATED:20260420T150229Z
LAST-MODIFIED:20260420T154028Z
UID:10008252-1778716800-1778803199@sniderhockey.org
SUMMARY:NO PROGRAMMING CLOSED FOR SUMMER
DESCRIPTION:
URL:https://sniderhockey.org/event/programming-closed-for-summer/2026-05-14/
LOCATION:Class of 1923 Arena at UPenn (University City)\, 3130 Walnut Street Philadelphia\, PA 19104\, Philadelphia\, PA\, United States
CATEGORIES:Class of 1923 Arena at UPenn
ATTACH;FMTTYPE=image/jpeg:https://sniderhockey.org/wp-content/uploads/2024/04/Rink-Closed.jpg
END:VEVENT
BEGIN:VEVENT
DTSTART;VALUE=DATE:20260515
DTEND;VALUE=DATE:20260516
DTSTAMP:20260421T020906
CREATED:20260420T150229Z
LAST-MODIFIED:20260420T154028Z
UID:10008253-1778803200-1778889599@sniderhockey.org
SUMMARY:NO PROGRAMMING CLOSED FOR SUMMER
DESCRIPTION:
URL:https://sniderhockey.org/event/programming-closed-for-summer/2026-05-15/
LOCATION:Class of 1923 Arena at UPenn (University City)\, 3130 Walnut Street Philadelphia\, PA 19104\, Philadelphia\, PA\, United States
CATEGORIES:Class of 1923 Arena at UPenn
ATTACH;FMTTYPE=image/jpeg:https://sniderhockey.org/wp-content/uploads/2024/04/Rink-Closed.jpg
END:VEVENT
BEGIN:VEVENT
DTSTART;VALUE=DATE:20260516
DTEND;VALUE=DATE:20260517
DTSTAMP:20260421T020906
CREATED:20260420T150229Z
LAST-MODIFIED:20260420T154028Z
UID:10008254-1778889600-1778975999@sniderhockey.org
SUMMARY:NO PROGRAMMING CLOSED FOR SUMMER
DESCRIPTION:
URL:https://sniderhockey.org/event/programming-closed-for-summer/2026-05-16/
LOCATION:Class of 1923 Arena at UPenn (University City)\, 3130 Walnut Street Philadelphia\, PA 19104\, Philadelphia\, PA\, United States
CATEGORIES:Class of 1923 Arena at UPenn
ATTACH;FMTTYPE=image/jpeg:https://sniderhockey.org/wp-content/uploads/2024/04/Rink-Closed.jpg
END:VEVENT
BEGIN:VEVENT
DTSTART;VALUE=DATE:20260517
DTEND;VALUE=DATE:20260518
DTSTAMP:20260421T020906
CREATED:20260420T150229Z
LAST-MODIFIED:20260420T154028Z
UID:10008255-1778976000-1779062399@sniderhockey.org
SUMMARY:NO PROGRAMMING CLOSED FOR SUMMER
DESCRIPTION:
URL:https://sniderhockey.org/event/programming-closed-for-summer/2026-05-17/
LOCATION:Class of 1923 Arena at UPenn (University City)\, 3130 Walnut Street Philadelphia\, PA 19104\, Philadelphia\, PA\, United States
CATEGORIES:Class of 1923 Arena at UPenn
ATTACH;FMTTYPE=image/jpeg:https://sniderhockey.org/wp-content/uploads/2024/04/Rink-Closed.jpg
END:VEVENT
BEGIN:VEVENT
DTSTART;VALUE=DATE:20260518
DTEND;VALUE=DATE:20260519
DTSTAMP:20260421T020906
CREATED:20260420T150229Z
LAST-MODIFIED:20260420T154028Z
UID:10008256-1779062400-1779148799@sniderhockey.org
SUMMARY:NO PROGRAMMING CLOSED FOR SUMMER
DESCRIPTION:
URL:https://sniderhockey.org/event/programming-closed-for-summer/2026-05-18/
LOCATION:Class of 1923 Arena at UPenn (University City)\, 3130 Walnut Street Philadelphia\, PA 19104\, Philadelphia\, PA\, United States
CATEGORIES:Class of 1923 Arena at UPenn
ATTACH;FMTTYPE=image/jpeg:https://sniderhockey.org/wp-content/uploads/2024/04/Rink-Closed.jpg
END:VEVENT
BEGIN:VEVENT
DTSTART;VALUE=DATE:20260519
DTEND;VALUE=DATE:20260520
DTSTAMP:20260421T020906
CREATED:20260420T150229Z
LAST-MODIFIED:20260420T154028Z
UID:10008257-1779148800-1779235199@sniderhockey.org
SUMMARY:NO PROGRAMMING CLOSED FOR SUMMER
DESCRIPTION:
URL:https://sniderhockey.org/event/programming-closed-for-summer/2026-05-19/
LOCATION:Class of 1923 Arena at UPenn (University City)\, 3130 Walnut Street Philadelphia\, PA 19104\, Philadelphia\, PA\, United States
CATEGORIES:Class of 1923 Arena at UPenn
ATTACH;FMTTYPE=image/jpeg:https://sniderhockey.org/wp-content/uploads/2024/04/Rink-Closed.jpg
END:VEVENT
BEGIN:VEVENT
DTSTART;VALUE=DATE:20260520
DTEND;VALUE=DATE:20260521
DTSTAMP:20260421T020906
CREATED:20260420T150229Z
LAST-MODIFIED:20260420T154028Z
UID:10008258-1779235200-1779321599@sniderhockey.org
SUMMARY:NO PROGRAMMING CLOSED FOR SUMMER
DESCRIPTION:
URL:https://sniderhockey.org/event/programming-closed-for-summer/2026-05-20/
LOCATION:Class of 1923 Arena at UPenn (University City)\, 3130 Walnut Street Philadelphia\, PA 19104\, Philadelphia\, PA\, United States
CATEGORIES:Class of 1923 Arena at UPenn
ATTACH;FMTTYPE=image/jpeg:https://sniderhockey.org/wp-content/uploads/2024/04/Rink-Closed.jpg
END:VEVENT
BEGIN:VEVENT
DTSTART;VALUE=DATE:20260521
DTEND;VALUE=DATE:20260522
DTSTAMP:20260421T020906
CREATED:20260420T150229Z
LAST-MODIFIED:20260420T154028Z
UID:10008259-1779321600-1779407999@sniderhockey.org
SUMMARY:NO PROGRAMMING CLOSED FOR SUMMER
DESCRIPTION:
URL:https://sniderhockey.org/event/programming-closed-for-summer/2026-05-21/
LOCATION:Class of 1923 Arena at UPenn (University City)\, 3130 Walnut Street Philadelphia\, PA 19104\, Philadelphia\, PA\, United States
CATEGORIES:Class of 1923 Arena at UPenn
ATTACH;FMTTYPE=image/jpeg:https://sniderhockey.org/wp-content/uploads/2024/04/Rink-Closed.jpg
END:VEVENT
BEGIN:VEVENT
DTSTART;VALUE=DATE:20260522
DTEND;VALUE=DATE:20260523
DTSTAMP:20260421T020906
CREATED:20260420T150229Z
LAST-MODIFIED:20260420T154028Z
UID:10008260-1779408000-1779494399@sniderhockey.org
SUMMARY:NO PROGRAMMING CLOSED FOR SUMMER
DESCRIPTION:
URL:https://sniderhockey.org/event/programming-closed-for-summer/2026-05-22/
LOCATION:Class of 1923 Arena at UPenn (University City)\, 3130 Walnut Street Philadelphia\, PA 19104\, Philadelphia\, PA\, United States
CATEGORIES:Class of 1923 Arena at UPenn
ATTACH;FMTTYPE=image/jpeg:https://sniderhockey.org/wp-content/uploads/2024/04/Rink-Closed.jpg
END:VEVENT
BEGIN:VEVENT
DTSTART;VALUE=DATE:20260523
DTEND;VALUE=DATE:20260524
DTSTAMP:20260421T020906
CREATED:20260420T150229Z
LAST-MODIFIED:20260420T154028Z
UID:10008261-1779494400-1779580799@sniderhockey.org
SUMMARY:NO PROGRAMMING CLOSED FOR SUMMER
DESCRIPTION:
URL:https://sniderhockey.org/event/programming-closed-for-summer/2026-05-23/
LOCATION:Class of 1923 Arena at UPenn (University City)\, 3130 Walnut Street Philadelphia\, PA 19104\, Philadelphia\, PA\, United States
CATEGORIES:Class of 1923 Arena at UPenn
ATTACH;FMTTYPE=image/jpeg:https://sniderhockey.org/wp-content/uploads/2024/04/Rink-Closed.jpg
END:VEVENT
BEGIN:VEVENT
DTSTART;VALUE=DATE:20260524
DTEND;VALUE=DATE:20260525
DTSTAMP:20260421T020906
CREATED:20260420T150229Z
LAST-MODIFIED:20260420T154028Z
UID:10008262-1779580800-1779667199@sniderhockey.org
SUMMARY:NO PROGRAMMING CLOSED FOR SUMMER
DESCRIPTION:
URL:https://sniderhockey.org/event/programming-closed-for-summer/2026-05-24/
LOCATION:Class of 1923 Arena at UPenn (University City)\, 3130 Walnut Street Philadelphia\, PA 19104\, Philadelphia\, PA\, United States
CATEGORIES:Class of 1923 Arena at UPenn
ATTACH;FMTTYPE=image/jpeg:https://sniderhockey.org/wp-content/uploads/2024/04/Rink-Closed.jpg
END:VEVENT
BEGIN:VEVENT
DTSTART;VALUE=DATE:20260525
DTEND;VALUE=DATE:20260526
DTSTAMP:20260421T020906
CREATED:20260420T150229Z
LAST-MODIFIED:20260420T154028Z
UID:10008263-1779667200-1779753599@sniderhockey.org
SUMMARY:NO PROGRAMMING CLOSED FOR SUMMER
DESCRIPTION:
URL:https://sniderhockey.org/event/programming-closed-for-summer/2026-05-25/
LOCATION:Class of 1923 Arena at UPenn (University City)\, 3130 Walnut Street Philadelphia\, PA 19104\, Philadelphia\, PA\, United States
CATEGORIES:Class of 1923 Arena at UPenn
ATTACH;FMTTYPE=image/jpeg:https://sniderhockey.org/wp-content/uploads/2024/04/Rink-Closed.jpg
END:VEVENT
BEGIN:VEVENT
DTSTART;VALUE=DATE:20260526
DTEND;VALUE=DATE:20260527
DTSTAMP:20260421T020906
CREATED:20260420T150229Z
LAST-MODIFIED:20260420T154028Z
UID:10008264-1779753600-1779839999@sniderhockey.org
SUMMARY:NO PROGRAMMING CLOSED FOR SUMMER
DESCRIPTION:
URL:https://sniderhockey.org/event/programming-closed-for-summer/2026-05-26/
LOCATION:Class of 1923 Arena at UPenn (University City)\, 3130 Walnut Street Philadelphia\, PA 19104\, Philadelphia\, PA\, United States
CATEGORIES:Class of 1923 Arena at UPenn
ATTACH;FMTTYPE=image/jpeg:https://sniderhockey.org/wp-content/uploads/2024/04/Rink-Closed.jpg
END:VEVENT
BEGIN:VEVENT
DTSTART;VALUE=DATE:20260527
DTEND;VALUE=DATE:20260528
DTSTAMP:20260421T020906
CREATED:20260420T150229Z
LAST-MODIFIED:20260420T154028Z
UID:10008265-1779840000-1779926399@sniderhockey.org
SUMMARY:NO PROGRAMMING CLOSED FOR SUMMER
DESCRIPTION:
URL:https://sniderhockey.org/event/programming-closed-for-summer/2026-05-27/
LOCATION:Class of 1923 Arena at UPenn (University City)\, 3130 Walnut Street Philadelphia\, PA 19104\, Philadelphia\, PA\, United States
CATEGORIES:Class of 1923 Arena at UPenn
ATTACH;FMTTYPE=image/jpeg:https://sniderhockey.org/wp-content/uploads/2024/04/Rink-Closed.jpg
END:VEVENT
BEGIN:VEVENT
DTSTART;VALUE=DATE:20260528
DTEND;VALUE=DATE:20260529
DTSTAMP:20260421T020906
CREATED:20260420T150229Z
LAST-MODIFIED:20260420T154028Z
UID:10008266-1779926400-1780012799@sniderhockey.org
SUMMARY:NO PROGRAMMING CLOSED FOR SUMMER
DESCRIPTION:
URL:https://sniderhockey.org/event/programming-closed-for-summer/2026-05-28/
LOCATION:Class of 1923 Arena at UPenn (University City)\, 3130 Walnut Street Philadelphia\, PA 19104\, Philadelphia\, PA\, United States
CATEGORIES:Class of 1923 Arena at UPenn
ATTACH;FMTTYPE=image/jpeg:https://sniderhockey.org/wp-content/uploads/2024/04/Rink-Closed.jpg
END:VEVENT
BEGIN:VEVENT
DTSTART;VALUE=DATE:20260529
DTEND;VALUE=DATE:20260530
DTSTAMP:20260421T020906
CREATED:20260420T150229Z
LAST-MODIFIED:20260420T154028Z
UID:10008267-1780012800-1780099199@sniderhockey.org
SUMMARY:NO PROGRAMMING CLOSED FOR SUMMER
DESCRIPTION:
URL:https://sniderhockey.org/event/programming-closed-for-summer/2026-05-29/
LOCATION:Class of 1923 Arena at UPenn (University City)\, 3130 Walnut Street Philadelphia\, PA 19104\, Philadelphia\, PA\, United States
CATEGORIES:Class of 1923 Arena at UPenn
ATTACH;FMTTYPE=image/jpeg:https://sniderhockey.org/wp-content/uploads/2024/04/Rink-Closed.jpg
END:VEVENT
BEGIN:VEVENT
DTSTART;VALUE=DATE:20260530
DTEND;VALUE=DATE:20260531
DTSTAMP:20260421T020906
CREATED:20260420T150229Z
LAST-MODIFIED:20260420T154028Z
UID:10008268-1780099200-1780185599@sniderhockey.org
SUMMARY:NO PROGRAMMING CLOSED FOR SUMMER
DESCRIPTION:
URL:https://sniderhockey.org/event/programming-closed-for-summer/2026-05-30/
LOCATION:Class of 1923 Arena at UPenn (University City)\, 3130 Walnut Street Philadelphia\, PA 19104\, Philadelphia\, PA\, United States
CATEGORIES:Class of 1923 Arena at UPenn
ATTACH;FMTTYPE=image/jpeg:https://sniderhockey.org/wp-content/uploads/2024/04/Rink-Closed.jpg
END:VEVENT
BEGIN:VEVENT
DTSTART;VALUE=DATE:20260531
DTEND;VALUE=DATE:20260601
DTSTAMP:20260421T020906
CREATED:20260420T150229Z
LAST-MODIFIED:20260420T154028Z
UID:10008269-1780185600-1780271999@sniderhockey.org
SUMMARY:NO PROGRAMMING CLOSED FOR SUMMER
DESCRIPTION:
URL:https://sniderhockey.org/event/programming-closed-for-summer/2026-05-31/
LOCATION:Class of 1923 Arena at UPenn (University City)\, 3130 Walnut Street Philadelphia\, PA 19104\, Philadelphia\, PA\, United States
CATEGORIES:Class of 1923 Arena at UPenn
ATTACH;FMTTYPE=image/jpeg:https://sniderhockey.org/wp-content/uploads/2024/04/Rink-Closed.jpg
END:VEVENT
END:VCALENDAR