BEGIN:VCALENDAR
VERSION:2.0
PRODID:-//Ed Snider - ECPv6.15.20//NONSGML v1.0//EN
CALSCALE:GREGORIAN
METHOD:PUBLISH
X-WR-CALNAME:Ed Snider
X-ORIGINAL-URL:https://sniderhockey.org
X-WR-CALDESC:Events for Ed Snider
REFRESH-INTERVAL;VALUE=DURATION:PT1H
X-Robots-Tag:noindex
X-PUBLISHED-TTL:PT1H
BEGIN:VTIMEZONE
TZID:UTC
BEGIN:STANDARD
TZOFFSETFROM:+0000
TZOFFSETTO:+0000
TZNAME:UTC
DTSTART:20250101T000000
END:STANDARD
END:VTIMEZONE
BEGIN:VEVENT
DTSTART;VALUE=DATE:20260529
DTEND;VALUE=DATE:20260530
DTSTAMP:20260421T044614
CREATED:20260420T150229Z
LAST-MODIFIED:20260420T154028Z
UID:10008267-1780012800-1780099199@sniderhockey.org
SUMMARY:NO PROGRAMMING CLOSED FOR SUMMER
DESCRIPTION:
URL:https://sniderhockey.org/event/programming-closed-for-summer/2026-05-29/
LOCATION:Class of 1923 Arena at UPenn (University City)\, 3130 Walnut Street Philadelphia\, PA 19104\, Philadelphia\, PA\, United States
CATEGORIES:Class of 1923 Arena at UPenn
ATTACH;FMTTYPE=image/jpeg:https://sniderhockey.org/wp-content/uploads/2024/04/Rink-Closed.jpg
END:VEVENT
BEGIN:VEVENT
DTSTART;VALUE=DATE:20260530
DTEND;VALUE=DATE:20260531
DTSTAMP:20260421T044614
CREATED:20260420T150229Z
LAST-MODIFIED:20260420T154028Z
UID:10008268-1780099200-1780185599@sniderhockey.org
SUMMARY:NO PROGRAMMING CLOSED FOR SUMMER
DESCRIPTION:
URL:https://sniderhockey.org/event/programming-closed-for-summer/2026-05-30/
LOCATION:Class of 1923 Arena at UPenn (University City)\, 3130 Walnut Street Philadelphia\, PA 19104\, Philadelphia\, PA\, United States
CATEGORIES:Class of 1923 Arena at UPenn
ATTACH;FMTTYPE=image/jpeg:https://sniderhockey.org/wp-content/uploads/2024/04/Rink-Closed.jpg
END:VEVENT
BEGIN:VEVENT
DTSTART;VALUE=DATE:20260531
DTEND;VALUE=DATE:20260601
DTSTAMP:20260421T044614
CREATED:20260420T150229Z
LAST-MODIFIED:20260420T154028Z
UID:10008269-1780185600-1780271999@sniderhockey.org
SUMMARY:NO PROGRAMMING CLOSED FOR SUMMER
DESCRIPTION:
URL:https://sniderhockey.org/event/programming-closed-for-summer/2026-05-31/
LOCATION:Class of 1923 Arena at UPenn (University City)\, 3130 Walnut Street Philadelphia\, PA 19104\, Philadelphia\, PA\, United States
CATEGORIES:Class of 1923 Arena at UPenn
ATTACH;FMTTYPE=image/jpeg:https://sniderhockey.org/wp-content/uploads/2024/04/Rink-Closed.jpg
END:VEVENT
END:VCALENDAR