BEGIN:VCALENDAR
VERSION:2.0
PRODID:-//Ed Snider - ECPv6.15.20//NONSGML v1.0//EN
CALSCALE:GREGORIAN
METHOD:PUBLISH
X-WR-CALNAME:Ed Snider
X-ORIGINAL-URL:https://sniderhockey.org
X-WR-CALDESC:Events for Ed Snider
REFRESH-INTERVAL;VALUE=DURATION:PT1H
X-Robots-Tag:noindex
X-PUBLISHED-TTL:PT1H
BEGIN:VTIMEZONE
TZID:UTC
BEGIN:STANDARD
TZOFFSETFROM:+0000
TZOFFSETTO:+0000
TZNAME:UTC
DTSTART:20250101T000000
END:STANDARD
END:VTIMEZONE
BEGIN:VEVENT
DTSTART;TZID=UTC:20260515T173000
DTEND;TZID=UTC:20260515T183000
DTSTAMP:20260421T094314
CREATED:20260420T161021Z
LAST-MODIFIED:20260420T161021Z
UID:10008295-1778866200-1778869800@sniderhockey.org
SUMMARY:SHL/Travel 14u & 18u Open Hockey
DESCRIPTION:
URL:https://sniderhockey.org/event/shl-travel-14u-18u-open-hockey-5/2026-05-15/
LOCATION:Scanlon Recreation Center (Kensington)\, 1099 E. Venango Street Philadelphia\, PA 19134\, Philadelphia\, PA\, United States
CATEGORIES:Scanlon Recreation Center
ATTACH;FMTTYPE=image/png:https://sniderhockey.org/wp-content/uploads/2025/08/High-School.png
END:VEVENT
BEGIN:VEVENT
DTSTART;TZID=UTC:20260516T091500
DTEND;TZID=UTC:20260516T103000
DTSTAMP:20260421T094314
CREATED:20260420T161422Z
LAST-MODIFIED:20260420T161422Z
UID:10008299-1778922900-1778927400@sniderhockey.org
SUMMARY:Learn To Skate & Learn To Play
DESCRIPTION:
URL:https://sniderhockey.org/event/learn-to-skate-learn-to-play-40/2026-05-16/
LOCATION:Scanlon Recreation Center (Kensington)\, 1099 E. Venango Street Philadelphia\, PA 19134\, Philadelphia\, PA\, United States
CATEGORIES:Scanlon Recreation Center
ATTACH;FMTTYPE=image/jpeg:https://sniderhockey.org/wp-content/uploads/2025/08/Learn-to-Skate.jpg
END:VEVENT
BEGIN:VEVENT
DTSTART;TZID=UTC:20260516T110000
DTEND;TZID=UTC:20260516T123000
DTSTAMP:20260421T094314
CREATED:20260420T175540Z
LAST-MODIFIED:20260420T175540Z
UID:10008330-1778929200-1778934600@sniderhockey.org
SUMMARY:SHL/Travel All Age Skills
DESCRIPTION:
URL:https://sniderhockey.org/event/shl-travel-all-age-skills-2/2026-05-16/
LOCATION:Scanlon Recreation Center (Kensington)\, 1099 E. Venango Street Philadelphia\, PA 19134\, Philadelphia\, PA\, United States
CATEGORIES:Scanlon Recreation Center
ATTACH;FMTTYPE=image/jpeg:https://sniderhockey.org/wp-content/uploads/2025/08/Skills-Session.jpg
END:VEVENT
BEGIN:VEVENT
DTSTART;VALUE=DATE:20260517
DTEND;VALUE=DATE:20260518
DTSTAMP:20260421T094314
CREATED:20260420T160156Z
LAST-MODIFIED:20260420T180030Z
UID:10008283-1778976000-1779062399@sniderhockey.org
SUMMARY:RINK CLOSED
DESCRIPTION:
URL:https://sniderhockey.org/event/rink-closed-12/2026-05-17/
LOCATION:Scanlon Recreation Center (Kensington)\, 1099 E. Venango Street Philadelphia\, PA 19134\, Philadelphia\, PA\, United States
CATEGORIES:Scanlon Recreation Center
ATTACH;FMTTYPE=image/jpeg:https://sniderhockey.org/wp-content/uploads/2024/04/Rink-Closed.jpg
END:VEVENT
BEGIN:VEVENT
DTSTART;TZID=UTC:20260518T173000
DTEND;TZID=UTC:20260518T183000
DTSTAMP:20260421T094314
CREATED:20260420T161749Z
LAST-MODIFIED:20260420T164151Z
UID:10008305-1779125400-1779129000@sniderhockey.org
SUMMARY:SHL/Travel 6u & 8u Stick Skills
DESCRIPTION:
URL:https://sniderhockey.org/event/shl-travel-6u-8u-stick-skills-5/2026-05-18/
LOCATION:Scanlon Recreation Center (Kensington)\, 1099 E. Venango Street Philadelphia\, PA 19134\, Philadelphia\, PA\, United States
CATEGORIES:Scanlon Recreation Center
ATTACH;FMTTYPE=image/jpeg:https://sniderhockey.org/wp-content/uploads/2025/08/Skills-Session.jpg
END:VEVENT
BEGIN:VEVENT
DTSTART;TZID=UTC:20260519T163000
DTEND;TZID=UTC:20260519T173000
DTSTAMP:20260421T094314
CREATED:20260420T161922Z
LAST-MODIFIED:20260420T161922Z
UID:10008310-1779208200-1779211800@sniderhockey.org
SUMMARY:Learn To Skate
DESCRIPTION:
URL:https://sniderhockey.org/event/learn-to-skate-134/2026-05-19/
LOCATION:Scanlon Recreation Center (Kensington)\, 1099 E. Venango Street Philadelphia\, PA 19134\, Philadelphia\, PA\, United States
CATEGORIES:Scanlon Recreation Center
ATTACH;FMTTYPE=image/jpeg:https://sniderhockey.org/wp-content/uploads/2025/08/Learn-to-Skate.jpg
END:VEVENT
BEGIN:VEVENT
DTSTART;TZID=UTC:20260519T173000
DTEND;TZID=UTC:20260519T183000
DTSTAMP:20260421T094314
CREATED:20260420T164258Z
LAST-MODIFIED:20260420T164258Z
UID:10008316-1779211800-1779215400@sniderhockey.org
SUMMARY:SHL/Travel 10u & 12u Scrimmage
DESCRIPTION:
URL:https://sniderhockey.org/event/shl-travel-10u-12u-scrimmage/
LOCATION:Scanlon Recreation Center (Kensington)\, 1099 E. Venango Street Philadelphia\, PA 19134\, Philadelphia\, PA\, United States
CATEGORIES:Scanlon Recreation Center
ATTACH;FMTTYPE=image/jpeg:https://sniderhockey.org/wp-content/uploads/2025/08/Skills-Session.jpg
END:VEVENT
BEGIN:VEVENT
DTSTART;TZID=UTC:20260520T163000
DTEND;TZID=UTC:20260520T173000
DTSTAMP:20260421T094314
CREATED:20260420T160316Z
LAST-MODIFIED:20260420T161234Z
UID:10008292-1779294600-1779298200@sniderhockey.org
SUMMARY:Learn To Play
DESCRIPTION:
URL:https://sniderhockey.org/event/learn-to-play-148/2026-05-20/
LOCATION:Scanlon Recreation Center (Kensington)\, 1099 E. Venango Street Philadelphia\, PA 19134\, Philadelphia\, PA\, United States
CATEGORIES:Scanlon Recreation Center
ATTACH;FMTTYPE=image/jpeg:https://sniderhockey.org/wp-content/uploads/2025/08/Learn-to-Play.jpg
END:VEVENT
BEGIN:VEVENT
DTSTART;TZID=UTC:20260520T173000
DTEND;TZID=UTC:20260520T183000
DTSTAMP:20260421T094314
CREATED:20260420T170828Z
LAST-MODIFIED:20260420T170828Z
UID:10008319-1779298200-1779301800@sniderhockey.org
SUMMARY:SHL/Travel 14u & 18u Scrimmage
DESCRIPTION:
URL:https://sniderhockey.org/event/shl-travel-14u-18u-scrimmage/
LOCATION:Scanlon Recreation Center (Kensington)\, 1099 E. Venango Street Philadelphia\, PA 19134\, Philadelphia\, PA\, United States
CATEGORIES:Scanlon Recreation Center
ATTACH;FMTTYPE=image/jpeg:https://sniderhockey.org/wp-content/uploads/2025/08/Skills-Session.jpg
END:VEVENT
BEGIN:VEVENT
DTSTART;TZID=UTC:20260521T163000
DTEND;TZID=UTC:20260521T183000
DTSTAMP:20260421T094314
CREATED:20260420T162036Z
LAST-MODIFIED:20260420T162036Z
UID:10008311-1779381000-1779388200@sniderhockey.org
SUMMARY:Last Day of Programming: Family Free Skate
DESCRIPTION:
URL:https://sniderhockey.org/event/last-day-of-programming-family-free-skate/
LOCATION:Scanlon Recreation Center (Kensington)\, 1099 E. Venango Street Philadelphia\, PA 19134\, Philadelphia\, PA\, United States
CATEGORIES:Scanlon Recreation Center
ATTACH;FMTTYPE=image/jpeg:https://sniderhockey.org/wp-content/uploads/2025/08/Scanlon1.jpg
END:VEVENT
BEGIN:VEVENT
DTSTART;VALUE=DATE:20260522
DTEND;VALUE=DATE:20260523
DTSTAMP:20260421T094314
CREATED:20260420T160105Z
LAST-MODIFIED:20260420T175952Z
UID:10008279-1779408000-1779494399@sniderhockey.org
SUMMARY:NO PROGRAMMING CLOSED FOR SUMMER
DESCRIPTION:
URL:https://sniderhockey.org/event/no-programming-closed-for-summer/2026-05-22/
LOCATION:Scanlon Recreation Center (Kensington)\, 1099 E. Venango Street Philadelphia\, PA 19134\, Philadelphia\, PA\, United States
CATEGORIES:Scanlon Recreation Center
ATTACH;FMTTYPE=image/jpeg:https://sniderhockey.org/wp-content/uploads/2024/04/Rink-Closed.jpg
END:VEVENT
BEGIN:VEVENT
DTSTART;VALUE=DATE:20260523
DTEND;VALUE=DATE:20260524
DTSTAMP:20260421T094314
CREATED:20260420T160105Z
LAST-MODIFIED:20260420T175952Z
UID:10008331-1779494400-1779580799@sniderhockey.org
SUMMARY:NO PROGRAMMING CLOSED FOR SUMMER
DESCRIPTION:
URL:https://sniderhockey.org/event/no-programming-closed-for-summer/2026-05-23/
LOCATION:Scanlon Recreation Center (Kensington)\, 1099 E. Venango Street Philadelphia\, PA 19134\, Philadelphia\, PA\, United States
CATEGORIES:Scanlon Recreation Center
ATTACH;FMTTYPE=image/jpeg:https://sniderhockey.org/wp-content/uploads/2024/04/Rink-Closed.jpg
END:VEVENT
BEGIN:VEVENT
DTSTART;VALUE=DATE:20260524
DTEND;VALUE=DATE:20260525
DTSTAMP:20260421T094314
CREATED:20260420T160105Z
LAST-MODIFIED:20260420T175952Z
UID:10008339-1779580800-1779667199@sniderhockey.org
SUMMARY:NO PROGRAMMING CLOSED FOR SUMMER
DESCRIPTION:
URL:https://sniderhockey.org/event/no-programming-closed-for-summer/2026-05-24/
LOCATION:Scanlon Recreation Center (Kensington)\, 1099 E. Venango Street Philadelphia\, PA 19134\, Philadelphia\, PA\, United States
CATEGORIES:Scanlon Recreation Center
ATTACH;FMTTYPE=image/jpeg:https://sniderhockey.org/wp-content/uploads/2024/04/Rink-Closed.jpg
END:VEVENT
BEGIN:VEVENT
DTSTART;VALUE=DATE:20260525
DTEND;VALUE=DATE:20260526
DTSTAMP:20260421T094314
CREATED:20260420T160105Z
LAST-MODIFIED:20260420T175952Z
UID:10008333-1779667200-1779753599@sniderhockey.org
SUMMARY:NO PROGRAMMING CLOSED FOR SUMMER
DESCRIPTION:
URL:https://sniderhockey.org/event/no-programming-closed-for-summer/2026-05-25/
LOCATION:Scanlon Recreation Center (Kensington)\, 1099 E. Venango Street Philadelphia\, PA 19134\, Philadelphia\, PA\, United States
CATEGORIES:Scanlon Recreation Center
ATTACH;FMTTYPE=image/jpeg:https://sniderhockey.org/wp-content/uploads/2024/04/Rink-Closed.jpg
END:VEVENT
BEGIN:VEVENT
DTSTART;VALUE=DATE:20260526
DTEND;VALUE=DATE:20260527
DTSTAMP:20260421T094314
CREATED:20260420T160105Z
LAST-MODIFIED:20260420T175952Z
UID:10008334-1779753600-1779839999@sniderhockey.org
SUMMARY:NO PROGRAMMING CLOSED FOR SUMMER
DESCRIPTION:
URL:https://sniderhockey.org/event/no-programming-closed-for-summer/2026-05-26/
LOCATION:Scanlon Recreation Center (Kensington)\, 1099 E. Venango Street Philadelphia\, PA 19134\, Philadelphia\, PA\, United States
CATEGORIES:Scanlon Recreation Center
ATTACH;FMTTYPE=image/jpeg:https://sniderhockey.org/wp-content/uploads/2024/04/Rink-Closed.jpg
END:VEVENT
BEGIN:VEVENT
DTSTART;VALUE=DATE:20260527
DTEND;VALUE=DATE:20260528
DTSTAMP:20260421T094314
CREATED:20260420T160105Z
LAST-MODIFIED:20260420T175952Z
UID:10008335-1779840000-1779926399@sniderhockey.org
SUMMARY:NO PROGRAMMING CLOSED FOR SUMMER
DESCRIPTION:
URL:https://sniderhockey.org/event/no-programming-closed-for-summer/2026-05-27/
LOCATION:Scanlon Recreation Center (Kensington)\, 1099 E. Venango Street Philadelphia\, PA 19134\, Philadelphia\, PA\, United States
CATEGORIES:Scanlon Recreation Center
ATTACH;FMTTYPE=image/jpeg:https://sniderhockey.org/wp-content/uploads/2024/04/Rink-Closed.jpg
END:VEVENT
BEGIN:VEVENT
DTSTART;VALUE=DATE:20260528
DTEND;VALUE=DATE:20260529
DTSTAMP:20260421T094314
CREATED:20260420T160105Z
LAST-MODIFIED:20260420T175952Z
UID:10008336-1779926400-1780012799@sniderhockey.org
SUMMARY:NO PROGRAMMING CLOSED FOR SUMMER
DESCRIPTION:
URL:https://sniderhockey.org/event/no-programming-closed-for-summer/2026-05-28/
LOCATION:Scanlon Recreation Center (Kensington)\, 1099 E. Venango Street Philadelphia\, PA 19134\, Philadelphia\, PA\, United States
CATEGORIES:Scanlon Recreation Center
ATTACH;FMTTYPE=image/jpeg:https://sniderhockey.org/wp-content/uploads/2024/04/Rink-Closed.jpg
END:VEVENT
BEGIN:VEVENT
DTSTART;VALUE=DATE:20260529
DTEND;VALUE=DATE:20260530
DTSTAMP:20260421T094314
CREATED:20260420T160105Z
LAST-MODIFIED:20260420T175952Z
UID:10008280-1780012800-1780099199@sniderhockey.org
SUMMARY:NO PROGRAMMING CLOSED FOR SUMMER
DESCRIPTION:
URL:https://sniderhockey.org/event/no-programming-closed-for-summer/2026-05-29/
LOCATION:Scanlon Recreation Center (Kensington)\, 1099 E. Venango Street Philadelphia\, PA 19134\, Philadelphia\, PA\, United States
CATEGORIES:Scanlon Recreation Center
ATTACH;FMTTYPE=image/jpeg:https://sniderhockey.org/wp-content/uploads/2024/04/Rink-Closed.jpg
END:VEVENT
BEGIN:VEVENT
DTSTART;VALUE=DATE:20260530
DTEND;VALUE=DATE:20260531
DTSTAMP:20260421T094314
CREATED:20260420T160105Z
LAST-MODIFIED:20260420T175952Z
UID:10008337-1780099200-1780185599@sniderhockey.org
SUMMARY:NO PROGRAMMING CLOSED FOR SUMMER
DESCRIPTION:
URL:https://sniderhockey.org/event/no-programming-closed-for-summer/2026-05-30/
LOCATION:Scanlon Recreation Center (Kensington)\, 1099 E. Venango Street Philadelphia\, PA 19134\, Philadelphia\, PA\, United States
CATEGORIES:Scanlon Recreation Center
ATTACH;FMTTYPE=image/jpeg:https://sniderhockey.org/wp-content/uploads/2024/04/Rink-Closed.jpg
END:VEVENT
BEGIN:VEVENT
DTSTART;VALUE=DATE:20260531
DTEND;VALUE=DATE:20260601
DTSTAMP:20260421T094314
CREATED:20260420T160105Z
LAST-MODIFIED:20260420T175952Z
UID:10008338-1780185600-1780271999@sniderhockey.org
SUMMARY:NO PROGRAMMING CLOSED FOR SUMMER
DESCRIPTION:
URL:https://sniderhockey.org/event/no-programming-closed-for-summer/2026-05-31/
LOCATION:Scanlon Recreation Center (Kensington)\, 1099 E. Venango Street Philadelphia\, PA 19134\, Philadelphia\, PA\, United States
CATEGORIES:Scanlon Recreation Center
ATTACH;FMTTYPE=image/jpeg:https://sniderhockey.org/wp-content/uploads/2024/04/Rink-Closed.jpg
END:VEVENT
END:VCALENDAR