BEGIN:VCALENDAR
VERSION:2.0
PRODID:-//Ed Snider - ECPv6.15.20//NONSGML v1.0//EN
CALSCALE:GREGORIAN
METHOD:PUBLISH
X-ORIGINAL-URL:https://sniderhockey.org
X-WR-CALDESC:Events for Ed Snider
REFRESH-INTERVAL;VALUE=DURATION:PT1H
X-Robots-Tag:noindex
X-PUBLISHED-TTL:PT1H
BEGIN:VTIMEZONE
TZID:UTC
BEGIN:STANDARD
TZOFFSETFROM:+0000
TZOFFSETTO:+0000
TZNAME:UTC
DTSTART:20250101T000000
END:STANDARD
END:VTIMEZONE
BEGIN:VEVENT
DTSTART;TZID=UTC:20260414T174500
DTEND;TZID=UTC:20260414T190000
DTSTAMP:20260420T204905
CREATED:20260323T160010Z
LAST-MODIFIED:20260331T171513Z
UID:10007385-1776188700-1776193200@sniderhockey.org
SUMMARY:SHL/Travel 6u & 8u Powerskating
DESCRIPTION:
URL:https://sniderhockey.org/event/shl-travel-6u-8u-powerskating-2/2026-04-14/
LOCATION:Simons Recreation Center (West Oak Lane)\, 7200 Woolston Ave. Philadelphia\, PA 19138\, Philadelphia\, PA\, United States
CATEGORIES:Simons Recreation Center
ATTACH;FMTTYPE=image/jpeg:https://sniderhockey.org/wp-content/uploads/2025/08/Skills-Session.jpg
END:VEVENT
BEGIN:VEVENT
DTSTART;TZID=UTC:20260414T190000
DTEND;TZID=UTC:20260414T201500
DTSTAMP:20260420T204905
CREATED:20260320T222458Z
LAST-MODIFIED:20260331T171415Z
UID:10007371-1776193200-1776197700@sniderhockey.org
SUMMARY:SHL/Travel 14u & 18u Stick Skills
DESCRIPTION:
URL:https://sniderhockey.org/event/shl-travel-14u-18u-stick-skills-3/2026-04-14/
LOCATION:Simons Recreation Center (West Oak Lane)\, 7200 Woolston Ave. Philadelphia\, PA 19138\, Philadelphia\, PA\, United States
CATEGORIES:Simons Recreation Center
ATTACH;FMTTYPE=image/jpeg:https://sniderhockey.org/wp-content/uploads/2025/08/Skills-Session.jpg
END:VEVENT
BEGIN:VEVENT
DTSTART;TZID=UTC:20260415T163000
DTEND;TZID=UTC:20260415T173000
DTSTAMP:20260420T204905
CREATED:20260320T223126Z
LAST-MODIFIED:20260331T170434Z
UID:10007376-1776270600-1776274200@sniderhockey.org
SUMMARY:Learn To Skate
DESCRIPTION:
URL:https://sniderhockey.org/event/learn-to-skate-129/2026-04-15/
LOCATION:Simons Recreation Center (West Oak Lane)\, 7200 Woolston Ave. Philadelphia\, PA 19138\, Philadelphia\, PA\, United States
CATEGORIES:Simons Recreation Center
ATTACH;FMTTYPE=image/jpeg:https://sniderhockey.org/wp-content/uploads/2025/08/Learn-to-Skate.jpg
END:VEVENT
BEGIN:VEVENT
DTSTART;TZID=UTC:20260415T173000
DTEND;TZID=UTC:20260415T183000
DTSTAMP:20260420T204905
CREATED:20260320T223348Z
LAST-MODIFIED:20260331T170141Z
UID:10007381-1776274200-1776277800@sniderhockey.org
SUMMARY:Learn To Play
DESCRIPTION:
URL:https://sniderhockey.org/event/learn-to-play-149/2026-04-15/
LOCATION:Simons Recreation Center (West Oak Lane)\, 7200 Woolston Ave. Philadelphia\, PA 19138\, Philadelphia\, PA\, United States
CATEGORIES:Simons Recreation Center
ATTACH;FMTTYPE=image/jpeg:https://sniderhockey.org/wp-content/uploads/2025/08/Learn-to-Play.jpg
END:VEVENT
BEGIN:VEVENT
DTSTART;VALUE=DATE:20260416
DTEND;VALUE=DATE:20260417
DTSTAMP:20260420T204905
CREATED:20260331T171956Z
LAST-MODIFIED:20260331T172058Z
UID:10007866-1776297600-1776383999@sniderhockey.org
SUMMARY:RINK CLOSED FOR THE SUMMER
DESCRIPTION:
URL:https://sniderhockey.org/event/rink-closed-for-the-summer/2026-04-16/
LOCATION:PA
CATEGORIES:Simons Recreation Center
ATTACH;FMTTYPE=image/jpeg:https://sniderhockey.org/wp-content/uploads/2024/04/Rink-Closed.jpg
END:VEVENT
BEGIN:VEVENT
DTSTART;VALUE=DATE:20260417
DTEND;VALUE=DATE:20260418
DTSTAMP:20260420T204905
CREATED:20260331T171956Z
LAST-MODIFIED:20260331T172058Z
UID:10007867-1776384000-1776470399@sniderhockey.org
SUMMARY:RINK CLOSED FOR THE SUMMER
DESCRIPTION:
URL:https://sniderhockey.org/event/rink-closed-for-the-summer/2026-04-17/
LOCATION:PA
CATEGORIES:Simons Recreation Center
ATTACH;FMTTYPE=image/jpeg:https://sniderhockey.org/wp-content/uploads/2024/04/Rink-Closed.jpg
END:VEVENT
BEGIN:VEVENT
DTSTART;VALUE=DATE:20260418
DTEND;VALUE=DATE:20260419
DTSTAMP:20260420T204905
CREATED:20260331T171956Z
LAST-MODIFIED:20260331T172058Z
UID:10007868-1776470400-1776556799@sniderhockey.org
SUMMARY:RINK CLOSED FOR THE SUMMER
DESCRIPTION:
URL:https://sniderhockey.org/event/rink-closed-for-the-summer/2026-04-18/
LOCATION:PA
CATEGORIES:Simons Recreation Center
ATTACH;FMTTYPE=image/jpeg:https://sniderhockey.org/wp-content/uploads/2024/04/Rink-Closed.jpg
END:VEVENT
BEGIN:VEVENT
DTSTART;VALUE=DATE:20260419
DTEND;VALUE=DATE:20260420
DTSTAMP:20260420T204905
CREATED:20260331T171956Z
LAST-MODIFIED:20260331T172058Z
UID:10007869-1776556800-1776643199@sniderhockey.org
SUMMARY:RINK CLOSED FOR THE SUMMER
DESCRIPTION:
URL:https://sniderhockey.org/event/rink-closed-for-the-summer/2026-04-19/
LOCATION:PA
CATEGORIES:Simons Recreation Center
ATTACH;FMTTYPE=image/jpeg:https://sniderhockey.org/wp-content/uploads/2024/04/Rink-Closed.jpg
END:VEVENT
BEGIN:VEVENT
DTSTART;VALUE=DATE:20260420
DTEND;VALUE=DATE:20260421
DTSTAMP:20260420T204905
CREATED:20260331T171956Z
LAST-MODIFIED:20260331T172058Z
UID:10007870-1776643200-1776729599@sniderhockey.org
SUMMARY:RINK CLOSED FOR THE SUMMER
DESCRIPTION:
URL:https://sniderhockey.org/event/rink-closed-for-the-summer/2026-04-20/
LOCATION:PA
CATEGORIES:Simons Recreation Center
ATTACH;FMTTYPE=image/jpeg:https://sniderhockey.org/wp-content/uploads/2024/04/Rink-Closed.jpg
END:VEVENT
BEGIN:VEVENT
DTSTART;VALUE=DATE:20260421
DTEND;VALUE=DATE:20260422
DTSTAMP:20260420T204905
CREATED:20260331T171956Z
LAST-MODIFIED:20260331T172058Z
UID:10007871-1776729600-1776815999@sniderhockey.org
SUMMARY:RINK CLOSED FOR THE SUMMER
DESCRIPTION:
URL:https://sniderhockey.org/event/rink-closed-for-the-summer/2026-04-21/
LOCATION:PA
CATEGORIES:Simons Recreation Center
ATTACH;FMTTYPE=image/jpeg:https://sniderhockey.org/wp-content/uploads/2024/04/Rink-Closed.jpg
END:VEVENT
BEGIN:VEVENT
DTSTART;VALUE=DATE:20260422
DTEND;VALUE=DATE:20260423
DTSTAMP:20260420T204905
CREATED:20260331T171956Z
LAST-MODIFIED:20260331T172058Z
UID:10007872-1776816000-1776902399@sniderhockey.org
SUMMARY:RINK CLOSED FOR THE SUMMER
DESCRIPTION:
URL:https://sniderhockey.org/event/rink-closed-for-the-summer/2026-04-22/
LOCATION:PA
CATEGORIES:Simons Recreation Center
ATTACH;FMTTYPE=image/jpeg:https://sniderhockey.org/wp-content/uploads/2024/04/Rink-Closed.jpg
END:VEVENT
BEGIN:VEVENT
DTSTART;VALUE=DATE:20260423
DTEND;VALUE=DATE:20260424
DTSTAMP:20260420T204905
CREATED:20260331T171956Z
LAST-MODIFIED:20260331T172058Z
UID:10007873-1776902400-1776988799@sniderhockey.org
SUMMARY:RINK CLOSED FOR THE SUMMER
DESCRIPTION:
URL:https://sniderhockey.org/event/rink-closed-for-the-summer/2026-04-23/
LOCATION:PA
CATEGORIES:Simons Recreation Center
ATTACH;FMTTYPE=image/jpeg:https://sniderhockey.org/wp-content/uploads/2024/04/Rink-Closed.jpg
END:VEVENT
BEGIN:VEVENT
DTSTART;VALUE=DATE:20260424
DTEND;VALUE=DATE:20260425
DTSTAMP:20260420T204905
CREATED:20260331T171956Z
LAST-MODIFIED:20260331T172058Z
UID:10007874-1776988800-1777075199@sniderhockey.org
SUMMARY:RINK CLOSED FOR THE SUMMER
DESCRIPTION:
URL:https://sniderhockey.org/event/rink-closed-for-the-summer/2026-04-24/
LOCATION:PA
CATEGORIES:Simons Recreation Center
ATTACH;FMTTYPE=image/jpeg:https://sniderhockey.org/wp-content/uploads/2024/04/Rink-Closed.jpg
END:VEVENT
BEGIN:VEVENT
DTSTART;VALUE=DATE:20260425
DTEND;VALUE=DATE:20260426
DTSTAMP:20260420T204905
CREATED:20260331T171956Z
LAST-MODIFIED:20260331T172058Z
UID:10007875-1777075200-1777161599@sniderhockey.org
SUMMARY:RINK CLOSED FOR THE SUMMER
DESCRIPTION:
URL:https://sniderhockey.org/event/rink-closed-for-the-summer/2026-04-25/
LOCATION:PA
CATEGORIES:Simons Recreation Center
ATTACH;FMTTYPE=image/jpeg:https://sniderhockey.org/wp-content/uploads/2024/04/Rink-Closed.jpg
END:VEVENT
BEGIN:VEVENT
DTSTART;VALUE=DATE:20260426
DTEND;VALUE=DATE:20260427
DTSTAMP:20260420T204905
CREATED:20260331T171956Z
LAST-MODIFIED:20260331T172058Z
UID:10007876-1777161600-1777247999@sniderhockey.org
SUMMARY:RINK CLOSED FOR THE SUMMER
DESCRIPTION:
URL:https://sniderhockey.org/event/rink-closed-for-the-summer/2026-04-26/
LOCATION:PA
CATEGORIES:Simons Recreation Center
ATTACH;FMTTYPE=image/jpeg:https://sniderhockey.org/wp-content/uploads/2024/04/Rink-Closed.jpg
END:VEVENT
BEGIN:VEVENT
DTSTART;VALUE=DATE:20260427
DTEND;VALUE=DATE:20260428
DTSTAMP:20260420T204905
CREATED:20260331T171956Z
LAST-MODIFIED:20260331T172058Z
UID:10007877-1777248000-1777334399@sniderhockey.org
SUMMARY:RINK CLOSED FOR THE SUMMER
DESCRIPTION:
URL:https://sniderhockey.org/event/rink-closed-for-the-summer/2026-04-27/
LOCATION:PA
CATEGORIES:Simons Recreation Center
ATTACH;FMTTYPE=image/jpeg:https://sniderhockey.org/wp-content/uploads/2024/04/Rink-Closed.jpg
END:VEVENT
BEGIN:VEVENT
DTSTART;VALUE=DATE:20260428
DTEND;VALUE=DATE:20260429
DTSTAMP:20260420T204905
CREATED:20260331T171956Z
LAST-MODIFIED:20260331T172058Z
UID:10007878-1777334400-1777420799@sniderhockey.org
SUMMARY:RINK CLOSED FOR THE SUMMER
DESCRIPTION:
URL:https://sniderhockey.org/event/rink-closed-for-the-summer/2026-04-28/
LOCATION:PA
CATEGORIES:Simons Recreation Center
ATTACH;FMTTYPE=image/jpeg:https://sniderhockey.org/wp-content/uploads/2024/04/Rink-Closed.jpg
END:VEVENT
BEGIN:VEVENT
DTSTART;VALUE=DATE:20260429
DTEND;VALUE=DATE:20260430
DTSTAMP:20260420T204905
CREATED:20260331T171956Z
LAST-MODIFIED:20260331T172058Z
UID:10007879-1777420800-1777507199@sniderhockey.org
SUMMARY:RINK CLOSED FOR THE SUMMER
DESCRIPTION:
URL:https://sniderhockey.org/event/rink-closed-for-the-summer/2026-04-29/
LOCATION:PA
CATEGORIES:Simons Recreation Center
ATTACH;FMTTYPE=image/jpeg:https://sniderhockey.org/wp-content/uploads/2024/04/Rink-Closed.jpg
END:VEVENT
BEGIN:VEVENT
DTSTART;VALUE=DATE:20260430
DTEND;VALUE=DATE:20260501
DTSTAMP:20260420T204905
CREATED:20260331T171956Z
LAST-MODIFIED:20260331T172058Z
UID:10007880-1777507200-1777593599@sniderhockey.org
SUMMARY:RINK CLOSED FOR THE SUMMER
DESCRIPTION:
URL:https://sniderhockey.org/event/rink-closed-for-the-summer/2026-04-30/
LOCATION:PA
CATEGORIES:Simons Recreation Center
ATTACH;FMTTYPE=image/jpeg:https://sniderhockey.org/wp-content/uploads/2024/04/Rink-Closed.jpg
END:VEVENT
BEGIN:VEVENT
DTSTART;VALUE=DATE:20260501
DTEND;VALUE=DATE:20260502
DTSTAMP:20260420T204905
CREATED:20260420T180209Z
LAST-MODIFIED:20260420T180209Z
UID:10008340-1777593600-1777679999@sniderhockey.org
SUMMARY:NO PROGRAMMING CLOSED FOR SUMMER
DESCRIPTION:
URL:https://sniderhockey.org/event/no-programming-closed-for-summer-2/2026-05-01/
LOCATION:Simons Recreation Center (West Oak Lane)\, 7200 Woolston Ave. Philadelphia\, PA 19138\, Philadelphia\, PA\, United States
CATEGORIES:Simons Recreation Center
ATTACH;FMTTYPE=image/jpeg:https://sniderhockey.org/wp-content/uploads/2024/04/Rink-Closed.jpg
END:VEVENT
BEGIN:VEVENT
DTSTART;VALUE=DATE:20260502
DTEND;VALUE=DATE:20260503
DTSTAMP:20260420T204905
CREATED:20260420T180209Z
LAST-MODIFIED:20260420T180209Z
UID:10008341-1777680000-1777766399@sniderhockey.org
SUMMARY:NO PROGRAMMING CLOSED FOR SUMMER
DESCRIPTION:
URL:https://sniderhockey.org/event/no-programming-closed-for-summer-2/2026-05-02/
LOCATION:Simons Recreation Center (West Oak Lane)\, 7200 Woolston Ave. Philadelphia\, PA 19138\, Philadelphia\, PA\, United States
CATEGORIES:Simons Recreation Center
ATTACH;FMTTYPE=image/jpeg:https://sniderhockey.org/wp-content/uploads/2024/04/Rink-Closed.jpg
END:VEVENT
BEGIN:VEVENT
DTSTART;VALUE=DATE:20260503
DTEND;VALUE=DATE:20260504
DTSTAMP:20260420T204905
CREATED:20260420T180209Z
LAST-MODIFIED:20260420T180209Z
UID:10008342-1777766400-1777852799@sniderhockey.org
SUMMARY:NO PROGRAMMING CLOSED FOR SUMMER
DESCRIPTION:
URL:https://sniderhockey.org/event/no-programming-closed-for-summer-2/2026-05-03/
LOCATION:Simons Recreation Center (West Oak Lane)\, 7200 Woolston Ave. Philadelphia\, PA 19138\, Philadelphia\, PA\, United States
CATEGORIES:Simons Recreation Center
ATTACH;FMTTYPE=image/jpeg:https://sniderhockey.org/wp-content/uploads/2024/04/Rink-Closed.jpg
END:VEVENT
BEGIN:VEVENT
DTSTART;VALUE=DATE:20260504
DTEND;VALUE=DATE:20260505
DTSTAMP:20260420T204905
CREATED:20260420T180209Z
LAST-MODIFIED:20260420T180209Z
UID:10008343-1777852800-1777939199@sniderhockey.org
SUMMARY:NO PROGRAMMING CLOSED FOR SUMMER
DESCRIPTION:
URL:https://sniderhockey.org/event/no-programming-closed-for-summer-2/2026-05-04/
LOCATION:Simons Recreation Center (West Oak Lane)\, 7200 Woolston Ave. Philadelphia\, PA 19138\, Philadelphia\, PA\, United States
CATEGORIES:Simons Recreation Center
ATTACH;FMTTYPE=image/jpeg:https://sniderhockey.org/wp-content/uploads/2024/04/Rink-Closed.jpg
END:VEVENT
BEGIN:VEVENT
DTSTART;VALUE=DATE:20260505
DTEND;VALUE=DATE:20260506
DTSTAMP:20260420T204905
CREATED:20260420T180209Z
LAST-MODIFIED:20260420T180209Z
UID:10008344-1777939200-1778025599@sniderhockey.org
SUMMARY:NO PROGRAMMING CLOSED FOR SUMMER
DESCRIPTION:
URL:https://sniderhockey.org/event/no-programming-closed-for-summer-2/2026-05-05/
LOCATION:Simons Recreation Center (West Oak Lane)\, 7200 Woolston Ave. Philadelphia\, PA 19138\, Philadelphia\, PA\, United States
CATEGORIES:Simons Recreation Center
ATTACH;FMTTYPE=image/jpeg:https://sniderhockey.org/wp-content/uploads/2024/04/Rink-Closed.jpg
END:VEVENT
BEGIN:VEVENT
DTSTART;VALUE=DATE:20260506
DTEND;VALUE=DATE:20260507
DTSTAMP:20260420T204905
CREATED:20260420T180209Z
LAST-MODIFIED:20260420T180209Z
UID:10008345-1778025600-1778111999@sniderhockey.org
SUMMARY:NO PROGRAMMING CLOSED FOR SUMMER
DESCRIPTION:
URL:https://sniderhockey.org/event/no-programming-closed-for-summer-2/2026-05-06/
LOCATION:Simons Recreation Center (West Oak Lane)\, 7200 Woolston Ave. Philadelphia\, PA 19138\, Philadelphia\, PA\, United States
CATEGORIES:Simons Recreation Center
ATTACH;FMTTYPE=image/jpeg:https://sniderhockey.org/wp-content/uploads/2024/04/Rink-Closed.jpg
END:VEVENT
BEGIN:VEVENT
DTSTART;VALUE=DATE:20260507
DTEND;VALUE=DATE:20260508
DTSTAMP:20260420T204905
CREATED:20260420T180209Z
LAST-MODIFIED:20260420T180209Z
UID:10008346-1778112000-1778198399@sniderhockey.org
SUMMARY:NO PROGRAMMING CLOSED FOR SUMMER
DESCRIPTION:
URL:https://sniderhockey.org/event/no-programming-closed-for-summer-2/2026-05-07/
LOCATION:Simons Recreation Center (West Oak Lane)\, 7200 Woolston Ave. Philadelphia\, PA 19138\, Philadelphia\, PA\, United States
CATEGORIES:Simons Recreation Center
ATTACH;FMTTYPE=image/jpeg:https://sniderhockey.org/wp-content/uploads/2024/04/Rink-Closed.jpg
END:VEVENT
BEGIN:VEVENT
DTSTART;VALUE=DATE:20260508
DTEND;VALUE=DATE:20260509
DTSTAMP:20260420T204905
CREATED:20260420T180209Z
LAST-MODIFIED:20260420T180209Z
UID:10008347-1778198400-1778284799@sniderhockey.org
SUMMARY:NO PROGRAMMING CLOSED FOR SUMMER
DESCRIPTION:
URL:https://sniderhockey.org/event/no-programming-closed-for-summer-2/2026-05-08/
LOCATION:Simons Recreation Center (West Oak Lane)\, 7200 Woolston Ave. Philadelphia\, PA 19138\, Philadelphia\, PA\, United States
CATEGORIES:Simons Recreation Center
ATTACH;FMTTYPE=image/jpeg:https://sniderhockey.org/wp-content/uploads/2024/04/Rink-Closed.jpg
END:VEVENT
BEGIN:VEVENT
DTSTART;VALUE=DATE:20260509
DTEND;VALUE=DATE:20260510
DTSTAMP:20260420T204905
CREATED:20260420T180209Z
LAST-MODIFIED:20260420T180209Z
UID:10008348-1778284800-1778371199@sniderhockey.org
SUMMARY:NO PROGRAMMING CLOSED FOR SUMMER
DESCRIPTION:
URL:https://sniderhockey.org/event/no-programming-closed-for-summer-2/2026-05-09/
LOCATION:Simons Recreation Center (West Oak Lane)\, 7200 Woolston Ave. Philadelphia\, PA 19138\, Philadelphia\, PA\, United States
CATEGORIES:Simons Recreation Center
ATTACH;FMTTYPE=image/jpeg:https://sniderhockey.org/wp-content/uploads/2024/04/Rink-Closed.jpg
END:VEVENT
BEGIN:VEVENT
DTSTART;VALUE=DATE:20260510
DTEND;VALUE=DATE:20260511
DTSTAMP:20260420T204905
CREATED:20260420T180209Z
LAST-MODIFIED:20260420T180209Z
UID:10008349-1778371200-1778457599@sniderhockey.org
SUMMARY:NO PROGRAMMING CLOSED FOR SUMMER
DESCRIPTION:
URL:https://sniderhockey.org/event/no-programming-closed-for-summer-2/2026-05-10/
LOCATION:Simons Recreation Center (West Oak Lane)\, 7200 Woolston Ave. Philadelphia\, PA 19138\, Philadelphia\, PA\, United States
CATEGORIES:Simons Recreation Center
ATTACH;FMTTYPE=image/jpeg:https://sniderhockey.org/wp-content/uploads/2024/04/Rink-Closed.jpg
END:VEVENT
BEGIN:VEVENT
DTSTART;VALUE=DATE:20260511
DTEND;VALUE=DATE:20260512
DTSTAMP:20260420T204905
CREATED:20260420T180209Z
LAST-MODIFIED:20260420T180209Z
UID:10008350-1778457600-1778543999@sniderhockey.org
SUMMARY:NO PROGRAMMING CLOSED FOR SUMMER
DESCRIPTION:
URL:https://sniderhockey.org/event/no-programming-closed-for-summer-2/2026-05-11/
LOCATION:Simons Recreation Center (West Oak Lane)\, 7200 Woolston Ave. Philadelphia\, PA 19138\, Philadelphia\, PA\, United States
CATEGORIES:Simons Recreation Center
ATTACH;FMTTYPE=image/jpeg:https://sniderhockey.org/wp-content/uploads/2024/04/Rink-Closed.jpg
END:VEVENT
END:VCALENDAR