BEGIN:VCALENDAR
VERSION:2.0
PRODID:-//Ed Snider - ECPv6.15.20//NONSGML v1.0//EN
CALSCALE:GREGORIAN
METHOD:PUBLISH
X-ORIGINAL-URL:https://sniderhockey.org
X-WR-CALDESC:Events for Ed Snider
REFRESH-INTERVAL;VALUE=DURATION:PT1H
X-Robots-Tag:noindex
X-PUBLISHED-TTL:PT1H
BEGIN:VTIMEZONE
TZID:UTC
BEGIN:STANDARD
TZOFFSETFROM:+0000
TZOFFSETTO:+0000
TZNAME:UTC
DTSTART:20250101T000000
END:STANDARD
END:VTIMEZONE
BEGIN:VEVENT
DTSTART;TZID=UTC:20260430T173000
DTEND;TZID=UTC:20260430T183000
DTSTAMP:20260422T223007
CREATED:20260324T152112Z
LAST-MODIFIED:20260324T152112Z
UID:10007765-1777570200-1777573800@sniderhockey.org
SUMMARY:Learn To Skate
DESCRIPTION:
URL:https://sniderhockey.org/event/learn-to-skate-131/2026-04-30/
LOCATION:Tarken Recreation Center (Oxford Circle)\, 6250 Frontenac Street Philadelphia\, PA 19111\, Philadelphia\, PA\, United States
CATEGORIES:Tarken Recreation Center
ATTACH;FMTTYPE=image/jpeg:https://sniderhockey.org/wp-content/uploads/2025/08/Learn-to-Skate.jpg
END:VEVENT
BEGIN:VEVENT
DTSTART;TZID=UTC:20260501T163000
DTEND;TZID=UTC:20260501T173000
DTSTAMP:20260422T223007
CREATED:20260422T163305Z
LAST-MODIFIED:20260422T163305Z
UID:10008385-1777653000-1777656600@sniderhockey.org
SUMMARY:SHL/Travel 8u & 10u Skating
DESCRIPTION:
URL:https://sniderhockey.org/event/shl-travel-8u-10u-skating-2/2026-05-01/
LOCATION:Tarken Recreation Center (Oxford Circle)\, 6250 Frontenac Street Philadelphia\, PA 19111\, Philadelphia\, PA\, United States
CATEGORIES:Tarken Recreation Center
ATTACH;FMTTYPE=image/jpeg:https://sniderhockey.org/wp-content/uploads/2025/08/Skills-Session.jpg
END:VEVENT
BEGIN:VEVENT
DTSTART;TZID=UTC:20260501T163000
DTEND;TZID=UTC:20260501T173000
DTSTAMP:20260422T223007
CREATED:20260422T165351Z
LAST-MODIFIED:20260422T165351Z
UID:10008387-1777653000-1777656600@sniderhockey.org
SUMMARY:High-School Open Hockey
DESCRIPTION:
URL:https://sniderhockey.org/event/high-school-open-hockey-11/2026-05-01/
LOCATION:Tarken Recreation Center (Oxford Circle)\, 6250 Frontenac Street Philadelphia\, PA 19111\, Philadelphia\, PA\, United States
CATEGORIES:Tarken Recreation Center
ATTACH;FMTTYPE=image/png:https://sniderhockey.org/wp-content/uploads/2025/08/High-School.png
END:VEVENT
BEGIN:VEVENT
DTSTART;TZID=UTC:20260502T120000
DTEND;TZID=UTC:20260502T130000
DTSTAMP:20260422T223007
CREATED:20260422T170629Z
LAST-MODIFIED:20260422T170629Z
UID:10008389-1777723200-1777726800@sniderhockey.org
SUMMARY:Learn To Play
DESCRIPTION:
URL:https://sniderhockey.org/event/learn-to-play-157/
LOCATION:Tarken Recreation Center (Oxford Circle)\, 6250 Frontenac Street Philadelphia\, PA 19111\, Philadelphia\, PA\, United States
CATEGORIES:Tarken Recreation Center
ATTACH;FMTTYPE=image/jpeg:https://sniderhockey.org/wp-content/uploads/2025/08/Learn-to-Play.jpg
END:VEVENT
BEGIN:VEVENT
DTSTART;TZID=UTC:20260502T130000
DTEND;TZID=UTC:20260502T140000
DTSTAMP:20260422T223007
CREATED:20260422T170909Z
LAST-MODIFIED:20260422T170909Z
UID:10008390-1777726800-1777730400@sniderhockey.org
SUMMARY:6u & 8u Spring League Game
DESCRIPTION:
URL:https://sniderhockey.org/event/6u-8u-spring-league-game/
LOCATION:Tarken Recreation Center (Oxford Circle)\, 6250 Frontenac Street Philadelphia\, PA 19111\, Philadelphia\, PA\, United States
CATEGORIES:Tarken Recreation Center
ATTACH;FMTTYPE=image/png:https://sniderhockey.org/wp-content/uploads/2025/08/SHL-Game.png
END:VEVENT
BEGIN:VEVENT
DTSTART;TZID=UTC:20260502T140000
DTEND;TZID=UTC:20260502T150000
DTSTAMP:20260422T223007
CREATED:20260422T170954Z
LAST-MODIFIED:20260422T170954Z
UID:10008391-1777730400-1777734000@sniderhockey.org
SUMMARY:6u & 8u Spring League Game
DESCRIPTION:
URL:https://sniderhockey.org/event/6u-8u-spring-league-game-2/
LOCATION:Tarken Recreation Center (Oxford Circle)\, 6250 Frontenac Street Philadelphia\, PA 19111\, Philadelphia\, PA\, United States
CATEGORIES:Tarken Recreation Center
ATTACH;FMTTYPE=image/png:https://sniderhockey.org/wp-content/uploads/2025/08/SHL-Game.png
END:VEVENT
BEGIN:VEVENT
DTSTART;VALUE=DATE:20260503
DTEND;VALUE=DATE:20260504
DTSTAMP:20260422T223007
CREATED:20260422T162603Z
LAST-MODIFIED:20260422T162603Z
UID:10008381-1777766400-1777852799@sniderhockey.org
SUMMARY:RINK CLOSED
DESCRIPTION:
URL:https://sniderhockey.org/event/rink-closed-13/2026-05-03/
LOCATION:Tarken Recreation Center (Oxford Circle)\, 6250 Frontenac Street Philadelphia\, PA 19111\, Philadelphia\, PA\, United States
CATEGORIES:Tarken Recreation Center
ATTACH;FMTTYPE=image/jpeg:https://sniderhockey.org/wp-content/uploads/2024/04/Rink-Closed.jpg
END:VEVENT
BEGIN:VEVENT
DTSTART;TZID=UTC:20260504T163000
DTEND;TZID=UTC:20260504T173000
DTSTAMP:20260422T223007
CREATED:20260422T194612Z
LAST-MODIFIED:20260422T194612Z
UID:10008398-1777912200-1777915800@sniderhockey.org
SUMMARY:Learn To Play
DESCRIPTION:
URL:https://sniderhockey.org/event/learn-to-play-158/2026-05-04/
LOCATION:Tarken Recreation Center (Oxford Circle)\, 6250 Frontenac Street Philadelphia\, PA 19111\, Philadelphia\, PA\, United States
CATEGORIES:Tarken Recreation Center
ATTACH;FMTTYPE=image/jpeg:https://sniderhockey.org/wp-content/uploads/2025/08/Learn-to-Play.jpg
END:VEVENT
BEGIN:VEVENT
DTSTART;TZID=UTC:20260504T173000
DTEND;TZID=UTC:20260504T183000
DTSTAMP:20260422T223007
CREATED:20260422T194721Z
LAST-MODIFIED:20260422T194721Z
UID:10008401-1777915800-1777919400@sniderhockey.org
SUMMARY:SHL/Travel 12u & 14u Skating
DESCRIPTION:
URL:https://sniderhockey.org/event/shl-travel-12u-14u-skating/2026-05-04/
LOCATION:Tarken Recreation Center (Oxford Circle)\, 6250 Frontenac Street Philadelphia\, PA 19111\, Philadelphia\, PA\, United States
CATEGORIES:Tarken Recreation Center
ATTACH;FMTTYPE=image/jpeg:https://sniderhockey.org/wp-content/uploads/2025/08/Skills-Session.jpg
END:VEVENT
BEGIN:VEVENT
DTSTART;TZID=UTC:20260506T163000
DTEND;TZID=UTC:20260506T173000
DTSTAMP:20260422T223007
CREATED:20260422T195256Z
LAST-MODIFIED:20260422T195256Z
UID:10008404-1778085000-1778088600@sniderhockey.org
SUMMARY:SHL/Travel 8u & 10u Skills
DESCRIPTION:
URL:https://sniderhockey.org/event/shl-travel-8u-10u-skills-3/2026-05-06/
LOCATION:Tarken Recreation Center (Oxford Circle)\, 6250 Frontenac Street Philadelphia\, PA 19111\, Philadelphia\, PA\, United States
CATEGORIES:Tarken Recreation Center
ATTACH;FMTTYPE=image/jpeg:https://sniderhockey.org/wp-content/uploads/2025/08/Skills-Session.jpg
END:VEVENT
BEGIN:VEVENT
DTSTART;TZID=UTC:20260506T173000
DTEND;TZID=UTC:20260506T183000
DTSTAMP:20260422T223007
CREATED:20260422T195358Z
LAST-MODIFIED:20260422T195358Z
UID:10008407-1778088600-1778092200@sniderhockey.org
SUMMARY:Learn To Play
DESCRIPTION:
URL:https://sniderhockey.org/event/learn-to-play-159/2026-05-06/
LOCATION:Tarken Recreation Center (Oxford Circle)\, 6250 Frontenac Street Philadelphia\, PA 19111\, Philadelphia\, PA\, United States
CATEGORIES:Tarken Recreation Center
ATTACH;FMTTYPE=image/jpeg:https://sniderhockey.org/wp-content/uploads/2025/08/Learn-to-Play.jpg
END:VEVENT
BEGIN:VEVENT
DTSTART;TZID=UTC:20260508T163000
DTEND;TZID=UTC:20260508T173000
DTSTAMP:20260422T223007
CREATED:20260422T163305Z
LAST-MODIFIED:20260422T163305Z
UID:10008386-1778257800-1778261400@sniderhockey.org
SUMMARY:SHL/Travel 8u & 10u Skating
DESCRIPTION:
URL:https://sniderhockey.org/event/shl-travel-8u-10u-skating-2/2026-05-08/
LOCATION:Tarken Recreation Center (Oxford Circle)\, 6250 Frontenac Street Philadelphia\, PA 19111\, Philadelphia\, PA\, United States
CATEGORIES:Tarken Recreation Center
ATTACH;FMTTYPE=image/jpeg:https://sniderhockey.org/wp-content/uploads/2025/08/Skills-Session.jpg
END:VEVENT
BEGIN:VEVENT
DTSTART;TZID=UTC:20260508T163000
DTEND;TZID=UTC:20260508T173000
DTSTAMP:20260422T223007
CREATED:20260422T165351Z
LAST-MODIFIED:20260422T165351Z
UID:10008388-1778257800-1778261400@sniderhockey.org
SUMMARY:High-School Open Hockey
DESCRIPTION:
URL:https://sniderhockey.org/event/high-school-open-hockey-11/2026-05-08/
LOCATION:Tarken Recreation Center (Oxford Circle)\, 6250 Frontenac Street Philadelphia\, PA 19111\, Philadelphia\, PA\, United States
CATEGORIES:Tarken Recreation Center
ATTACH;FMTTYPE=image/png:https://sniderhockey.org/wp-content/uploads/2025/08/High-School.png
END:VEVENT
BEGIN:VEVENT
DTSTART;TZID=UTC:20260509T120000
DTEND;TZID=UTC:20260509T130000
DTSTAMP:20260422T223007
CREATED:20260422T193530Z
LAST-MODIFIED:20260422T193530Z
UID:10008392-1778328000-1778331600@sniderhockey.org
SUMMARY:Spring League Hockey
DESCRIPTION:
URL:https://sniderhockey.org/event/spring-league-hockey-2/2026-05-09/
LOCATION:Tarken Recreation Center (Oxford Circle)\, 6250 Frontenac Street Philadelphia\, PA 19111\, Philadelphia\, PA\, United States
CATEGORIES:Tarken Recreation Center
ATTACH;FMTTYPE=image/png:https://sniderhockey.org/wp-content/uploads/2025/08/SHL-Game.png
END:VEVENT
BEGIN:VEVENT
DTSTART;TZID=UTC:20260509T130000
DTEND;TZID=UTC:20260509T140000
DTSTAMP:20260422T223007
CREATED:20260422T194000Z
LAST-MODIFIED:20260422T194000Z
UID:10008394-1778331600-1778335200@sniderhockey.org
SUMMARY:Spring League Hockey
DESCRIPTION:
URL:https://sniderhockey.org/event/spring-league-hockey-3/2026-05-09/
LOCATION:Tarken Recreation Center (Oxford Circle)\, 6250 Frontenac Street Philadelphia\, PA 19111\, Philadelphia\, PA\, United States
CATEGORIES:Tarken Recreation Center
ATTACH;FMTTYPE=image/png:https://sniderhockey.org/wp-content/uploads/2025/08/SHL-Game.png
END:VEVENT
BEGIN:VEVENT
DTSTART;TZID=UTC:20260509T140000
DTEND;TZID=UTC:20260509T150000
DTSTAMP:20260422T223007
CREATED:20260422T194205Z
LAST-MODIFIED:20260422T194205Z
UID:10008396-1778335200-1778338800@sniderhockey.org
SUMMARY:Spring League Hockey
DESCRIPTION:
URL:https://sniderhockey.org/event/spring-league-hockey-4/2026-05-09/
LOCATION:Tarken Recreation Center (Oxford Circle)\, 6250 Frontenac Street Philadelphia\, PA 19111\, Philadelphia\, PA\, United States
CATEGORIES:Tarken Recreation Center
ATTACH;FMTTYPE=image/png:https://sniderhockey.org/wp-content/uploads/2025/08/SHL-Game.png
END:VEVENT
BEGIN:VEVENT
DTSTART;VALUE=DATE:20260510
DTEND;VALUE=DATE:20260511
DTSTAMP:20260422T223007
CREATED:20260422T162603Z
LAST-MODIFIED:20260422T162603Z
UID:10008382-1778371200-1778457599@sniderhockey.org
SUMMARY:RINK CLOSED
DESCRIPTION:
URL:https://sniderhockey.org/event/rink-closed-13/2026-05-10/
LOCATION:Tarken Recreation Center (Oxford Circle)\, 6250 Frontenac Street Philadelphia\, PA 19111\, Philadelphia\, PA\, United States
CATEGORIES:Tarken Recreation Center
ATTACH;FMTTYPE=image/jpeg:https://sniderhockey.org/wp-content/uploads/2024/04/Rink-Closed.jpg
END:VEVENT
BEGIN:VEVENT
DTSTART;TZID=UTC:20260511T163000
DTEND;TZID=UTC:20260511T173000
DTSTAMP:20260422T223007
CREATED:20260422T194612Z
LAST-MODIFIED:20260422T194612Z
UID:10008399-1778517000-1778520600@sniderhockey.org
SUMMARY:Learn To Play
DESCRIPTION:
URL:https://sniderhockey.org/event/learn-to-play-158/2026-05-11/
LOCATION:Tarken Recreation Center (Oxford Circle)\, 6250 Frontenac Street Philadelphia\, PA 19111\, Philadelphia\, PA\, United States
CATEGORIES:Tarken Recreation Center
ATTACH;FMTTYPE=image/jpeg:https://sniderhockey.org/wp-content/uploads/2025/08/Learn-to-Play.jpg
END:VEVENT
BEGIN:VEVENT
DTSTART;TZID=UTC:20260511T173000
DTEND;TZID=UTC:20260511T183000
DTSTAMP:20260422T223007
CREATED:20260422T194721Z
LAST-MODIFIED:20260422T194721Z
UID:10008402-1778520600-1778524200@sniderhockey.org
SUMMARY:SHL/Travel 12u & 14u Skating
DESCRIPTION:
URL:https://sniderhockey.org/event/shl-travel-12u-14u-skating/2026-05-11/
LOCATION:Tarken Recreation Center (Oxford Circle)\, 6250 Frontenac Street Philadelphia\, PA 19111\, Philadelphia\, PA\, United States
CATEGORIES:Tarken Recreation Center
ATTACH;FMTTYPE=image/jpeg:https://sniderhockey.org/wp-content/uploads/2025/08/Skills-Session.jpg
END:VEVENT
BEGIN:VEVENT
DTSTART;TZID=UTC:20260513T163000
DTEND;TZID=UTC:20260513T173000
DTSTAMP:20260422T223007
CREATED:20260422T195256Z
LAST-MODIFIED:20260422T195256Z
UID:10008405-1778689800-1778693400@sniderhockey.org
SUMMARY:SHL/Travel 8u & 10u Skills
DESCRIPTION:
URL:https://sniderhockey.org/event/shl-travel-8u-10u-skills-3/2026-05-13/
LOCATION:Tarken Recreation Center (Oxford Circle)\, 6250 Frontenac Street Philadelphia\, PA 19111\, Philadelphia\, PA\, United States
CATEGORIES:Tarken Recreation Center
ATTACH;FMTTYPE=image/jpeg:https://sniderhockey.org/wp-content/uploads/2025/08/Skills-Session.jpg
END:VEVENT
BEGIN:VEVENT
DTSTART;TZID=UTC:20260513T173000
DTEND;TZID=UTC:20260513T183000
DTSTAMP:20260422T223007
CREATED:20260422T195358Z
LAST-MODIFIED:20260422T195358Z
UID:10008408-1778693400-1778697000@sniderhockey.org
SUMMARY:Learn To Play
DESCRIPTION:
URL:https://sniderhockey.org/event/learn-to-play-159/2026-05-13/
LOCATION:Tarken Recreation Center (Oxford Circle)\, 6250 Frontenac Street Philadelphia\, PA 19111\, Philadelphia\, PA\, United States
CATEGORIES:Tarken Recreation Center
ATTACH;FMTTYPE=image/jpeg:https://sniderhockey.org/wp-content/uploads/2025/08/Learn-to-Play.jpg
END:VEVENT
BEGIN:VEVENT
DTSTART;TZID=UTC:20260515T163000
DTEND;TZID=UTC:20260515T183000
DTSTAMP:20260422T223007
CREATED:20260422T163147Z
LAST-MODIFIED:20260422T163147Z
UID:10008384-1778862600-1778869800@sniderhockey.org
SUMMARY:End of Season Party & Book Fair
DESCRIPTION:
URL:https://sniderhockey.org/event/end-of-season-party-book-fair/
LOCATION:Tarken Recreation Center (Oxford Circle)\, 6250 Frontenac Street Philadelphia\, PA 19111\, Philadelphia\, PA\, United States
CATEGORIES:Tarken Recreation Center
ATTACH;FMTTYPE=image/jpeg:https://sniderhockey.org/wp-content/uploads/2025/08/Tarken.jpg
END:VEVENT
BEGIN:VEVENT
DTSTART;TZID=UTC:20260516T120000
DTEND;TZID=UTC:20260516T130000
DTSTAMP:20260422T223007
CREATED:20260422T193530Z
LAST-MODIFIED:20260422T193530Z
UID:10008393-1778932800-1778936400@sniderhockey.org
SUMMARY:Spring League Hockey
DESCRIPTION:
URL:https://sniderhockey.org/event/spring-league-hockey-2/2026-05-16/
LOCATION:Tarken Recreation Center (Oxford Circle)\, 6250 Frontenac Street Philadelphia\, PA 19111\, Philadelphia\, PA\, United States
CATEGORIES:Tarken Recreation Center
ATTACH;FMTTYPE=image/png:https://sniderhockey.org/wp-content/uploads/2025/08/SHL-Game.png
END:VEVENT
BEGIN:VEVENT
DTSTART;TZID=UTC:20260516T130000
DTEND;TZID=UTC:20260516T140000
DTSTAMP:20260422T223007
CREATED:20260422T194000Z
LAST-MODIFIED:20260422T194000Z
UID:10008395-1778936400-1778940000@sniderhockey.org
SUMMARY:Spring League Hockey
DESCRIPTION:
URL:https://sniderhockey.org/event/spring-league-hockey-3/2026-05-16/
LOCATION:Tarken Recreation Center (Oxford Circle)\, 6250 Frontenac Street Philadelphia\, PA 19111\, Philadelphia\, PA\, United States
CATEGORIES:Tarken Recreation Center
ATTACH;FMTTYPE=image/png:https://sniderhockey.org/wp-content/uploads/2025/08/SHL-Game.png
END:VEVENT
BEGIN:VEVENT
DTSTART;TZID=UTC:20260516T140000
DTEND;TZID=UTC:20260516T150000
DTSTAMP:20260422T223007
CREATED:20260422T194205Z
LAST-MODIFIED:20260422T194205Z
UID:10008397-1778940000-1778943600@sniderhockey.org
SUMMARY:Spring League Hockey
DESCRIPTION:
URL:https://sniderhockey.org/event/spring-league-hockey-4/2026-05-16/
LOCATION:Tarken Recreation Center (Oxford Circle)\, 6250 Frontenac Street Philadelphia\, PA 19111\, Philadelphia\, PA\, United States
CATEGORIES:Tarken Recreation Center
ATTACH;FMTTYPE=image/png:https://sniderhockey.org/wp-content/uploads/2025/08/SHL-Game.png
END:VEVENT
BEGIN:VEVENT
DTSTART;VALUE=DATE:20260517
DTEND;VALUE=DATE:20260518
DTSTAMP:20260422T223007
CREATED:20260422T162603Z
LAST-MODIFIED:20260422T162603Z
UID:10008383-1778976000-1779062399@sniderhockey.org
SUMMARY:RINK CLOSED
DESCRIPTION:
URL:https://sniderhockey.org/event/rink-closed-13/2026-05-17/
LOCATION:Tarken Recreation Center (Oxford Circle)\, 6250 Frontenac Street Philadelphia\, PA 19111\, Philadelphia\, PA\, United States
CATEGORIES:Tarken Recreation Center
ATTACH;FMTTYPE=image/jpeg:https://sniderhockey.org/wp-content/uploads/2024/04/Rink-Closed.jpg
END:VEVENT
BEGIN:VEVENT
DTSTART;TZID=UTC:20260518T163000
DTEND;TZID=UTC:20260518T173000
DTSTAMP:20260422T223007
CREATED:20260422T194612Z
LAST-MODIFIED:20260422T194612Z
UID:10008400-1779121800-1779125400@sniderhockey.org
SUMMARY:Learn To Play
DESCRIPTION:
URL:https://sniderhockey.org/event/learn-to-play-158/2026-05-18/
LOCATION:Tarken Recreation Center (Oxford Circle)\, 6250 Frontenac Street Philadelphia\, PA 19111\, Philadelphia\, PA\, United States
CATEGORIES:Tarken Recreation Center
ATTACH;FMTTYPE=image/jpeg:https://sniderhockey.org/wp-content/uploads/2025/08/Learn-to-Play.jpg
END:VEVENT
BEGIN:VEVENT
DTSTART;TZID=UTC:20260518T173000
DTEND;TZID=UTC:20260518T183000
DTSTAMP:20260422T223007
CREATED:20260422T194721Z
LAST-MODIFIED:20260422T194721Z
UID:10008403-1779125400-1779129000@sniderhockey.org
SUMMARY:SHL/Travel 12u & 14u Skating
DESCRIPTION:
URL:https://sniderhockey.org/event/shl-travel-12u-14u-skating/2026-05-18/
LOCATION:Tarken Recreation Center (Oxford Circle)\, 6250 Frontenac Street Philadelphia\, PA 19111\, Philadelphia\, PA\, United States
CATEGORIES:Tarken Recreation Center
ATTACH;FMTTYPE=image/jpeg:https://sniderhockey.org/wp-content/uploads/2025/08/Skills-Session.jpg
END:VEVENT
BEGIN:VEVENT
DTSTART;TZID=UTC:20260520T163000
DTEND;TZID=UTC:20260520T173000
DTSTAMP:20260422T223007
CREATED:20260422T195256Z
LAST-MODIFIED:20260422T195256Z
UID:10008406-1779294600-1779298200@sniderhockey.org
SUMMARY:SHL/Travel 8u & 10u Skills
DESCRIPTION:
URL:https://sniderhockey.org/event/shl-travel-8u-10u-skills-3/2026-05-20/
LOCATION:Tarken Recreation Center (Oxford Circle)\, 6250 Frontenac Street Philadelphia\, PA 19111\, Philadelphia\, PA\, United States
CATEGORIES:Tarken Recreation Center
ATTACH;FMTTYPE=image/jpeg:https://sniderhockey.org/wp-content/uploads/2025/08/Skills-Session.jpg
END:VEVENT
BEGIN:VEVENT
DTSTART;TZID=UTC:20260520T173000
DTEND;TZID=UTC:20260520T183000
DTSTAMP:20260422T223007
CREATED:20260422T195358Z
LAST-MODIFIED:20260422T195358Z
UID:10008409-1779298200-1779301800@sniderhockey.org
SUMMARY:Learn To Play
DESCRIPTION:
URL:https://sniderhockey.org/event/learn-to-play-159/2026-05-20/
LOCATION:Tarken Recreation Center (Oxford Circle)\, 6250 Frontenac Street Philadelphia\, PA 19111\, Philadelphia\, PA\, United States
CATEGORIES:Tarken Recreation Center
ATTACH;FMTTYPE=image/jpeg:https://sniderhockey.org/wp-content/uploads/2025/08/Learn-to-Play.jpg
END:VEVENT
END:VCALENDAR