BEGIN:VCALENDAR
VERSION:2.0
PRODID:-//Ed Snider - ECPv6.15.20//NONSGML v1.0//EN
CALSCALE:GREGORIAN
METHOD:PUBLISH
X-WR-CALNAME:Ed Snider
X-ORIGINAL-URL:https://sniderhockey.org
X-WR-CALDESC:Events for Ed Snider
REFRESH-INTERVAL;VALUE=DURATION:PT1H
X-Robots-Tag:noindex
X-PUBLISHED-TTL:PT1H
BEGIN:VTIMEZONE
TZID:UTC
BEGIN:STANDARD
TZOFFSETFROM:+0000
TZOFFSETTO:+0000
TZNAME:UTC
DTSTART:20250101T000000
END:STANDARD
END:VTIMEZONE
BEGIN:VEVENT
DTSTART;TZID=UTC:20260505T163000
DTEND;TZID=UTC:20260505T173000
DTSTAMP:20260420T191930
CREATED:20260420T150851Z
LAST-MODIFIED:20260420T150851Z
UID:10008270-1777998600-1778002200@sniderhockey.org
SUMMARY:Learn To Skate
DESCRIPTION:
URL:https://sniderhockey.org/event/learn-to-skate-127/2026-05-05/
LOCATION:Class of 1923 Arena at UPenn (University City)\, 3130 Walnut Street Philadelphia\, PA 19104\, Philadelphia\, PA\, United States
CATEGORIES:Class of 1923 Arena at UPenn
ATTACH;FMTTYPE=image/jpeg:https://sniderhockey.org/wp-content/uploads/2025/08/Learn-to-Skate.jpg
END:VEVENT
BEGIN:VEVENT
DTSTART;TZID=UTC:20260506T163000
DTEND;TZID=UTC:20260506T173000
DTSTAMP:20260420T191930
CREATED:20260420T150851Z
LAST-MODIFIED:20260420T150851Z
UID:10008271-1778085000-1778088600@sniderhockey.org
SUMMARY:Learn To Skate
DESCRIPTION:
URL:https://sniderhockey.org/event/learn-to-skate-127/2026-05-06/
LOCATION:Class of 1923 Arena at UPenn (University City)\, 3130 Walnut Street Philadelphia\, PA 19104\, Philadelphia\, PA\, United States
CATEGORIES:Class of 1923 Arena at UPenn
ATTACH;FMTTYPE=image/jpeg:https://sniderhockey.org/wp-content/uploads/2025/08/Learn-to-Skate.jpg
END:VEVENT
END:VCALENDAR