BEGIN:VCALENDAR
VERSION:2.0
PRODID:-//Ed Snider - ECPv6.15.20//NONSGML v1.0//EN
CALSCALE:GREGORIAN
METHOD:PUBLISH
X-WR-CALNAME:Ed Snider
X-ORIGINAL-URL:https://sniderhockey.org
X-WR-CALDESC:Events for Ed Snider
REFRESH-INTERVAL;VALUE=DURATION:PT1H
X-Robots-Tag:noindex
X-PUBLISHED-TTL:PT1H
BEGIN:VTIMEZONE
TZID:UTC
BEGIN:STANDARD
TZOFFSETFROM:+0000
TZOFFSETTO:+0000
TZNAME:UTC
DTSTART:20250101T000000
END:STANDARD
END:VTIMEZONE
BEGIN:VEVENT
DTSTART;TZID=UTC:20260505T163000
DTEND;TZID=UTC:20260505T173000
DTSTAMP:20260421T070049
CREATED:20260420T161922Z
LAST-MODIFIED:20260420T161922Z
UID:10008306-1777998600-1778002200@sniderhockey.org
SUMMARY:Learn To Skate
DESCRIPTION:
URL:https://sniderhockey.org/event/learn-to-skate-134/2026-05-05/
LOCATION:Scanlon Recreation Center (Kensington)\, 1099 E. Venango Street Philadelphia\, PA 19134\, Philadelphia\, PA\, United States
CATEGORIES:Scanlon Recreation Center
ATTACH;FMTTYPE=image/jpeg:https://sniderhockey.org/wp-content/uploads/2025/08/Learn-to-Skate.jpg
END:VEVENT
BEGIN:VEVENT
DTSTART;TZID=UTC:20260507T163000
DTEND;TZID=UTC:20260507T173000
DTSTAMP:20260421T070049
CREATED:20260420T161922Z
LAST-MODIFIED:20260420T161922Z
UID:10008307-1778171400-1778175000@sniderhockey.org
SUMMARY:Learn To Skate
DESCRIPTION:
URL:https://sniderhockey.org/event/learn-to-skate-134/2026-05-07/
LOCATION:Scanlon Recreation Center (Kensington)\, 1099 E. Venango Street Philadelphia\, PA 19134\, Philadelphia\, PA\, United States
CATEGORIES:Scanlon Recreation Center
ATTACH;FMTTYPE=image/jpeg:https://sniderhockey.org/wp-content/uploads/2025/08/Learn-to-Skate.jpg
END:VEVENT
BEGIN:VEVENT
DTSTART;TZID=UTC:20260512T163000
DTEND;TZID=UTC:20260512T173000
DTSTAMP:20260421T070049
CREATED:20260420T161922Z
LAST-MODIFIED:20260420T161922Z
UID:10008308-1778603400-1778607000@sniderhockey.org
SUMMARY:Learn To Skate
DESCRIPTION:
URL:https://sniderhockey.org/event/learn-to-skate-134/2026-05-12/
LOCATION:Scanlon Recreation Center (Kensington)\, 1099 E. Venango Street Philadelphia\, PA 19134\, Philadelphia\, PA\, United States
CATEGORIES:Scanlon Recreation Center
ATTACH;FMTTYPE=image/jpeg:https://sniderhockey.org/wp-content/uploads/2025/08/Learn-to-Skate.jpg
END:VEVENT
BEGIN:VEVENT
DTSTART;TZID=UTC:20260514T163000
DTEND;TZID=UTC:20260514T173000
DTSTAMP:20260421T070049
CREATED:20260420T161922Z
LAST-MODIFIED:20260420T161922Z
UID:10008309-1778776200-1778779800@sniderhockey.org
SUMMARY:Learn To Skate
DESCRIPTION:
URL:https://sniderhockey.org/event/learn-to-skate-134/2026-05-14/
LOCATION:Scanlon Recreation Center (Kensington)\, 1099 E. Venango Street Philadelphia\, PA 19134\, Philadelphia\, PA\, United States
CATEGORIES:Scanlon Recreation Center
ATTACH;FMTTYPE=image/jpeg:https://sniderhockey.org/wp-content/uploads/2025/08/Learn-to-Skate.jpg
END:VEVENT
BEGIN:VEVENT
DTSTART;TZID=UTC:20260519T163000
DTEND;TZID=UTC:20260519T173000
DTSTAMP:20260421T070049
CREATED:20260420T161922Z
LAST-MODIFIED:20260420T161922Z
UID:10008310-1779208200-1779211800@sniderhockey.org
SUMMARY:Learn To Skate
DESCRIPTION:
URL:https://sniderhockey.org/event/learn-to-skate-134/2026-05-19/
LOCATION:Scanlon Recreation Center (Kensington)\, 1099 E. Venango Street Philadelphia\, PA 19134\, Philadelphia\, PA\, United States
CATEGORIES:Scanlon Recreation Center
ATTACH;FMTTYPE=image/jpeg:https://sniderhockey.org/wp-content/uploads/2025/08/Learn-to-Skate.jpg
END:VEVENT
END:VCALENDAR