BEGIN:VCALENDAR
VERSION:2.0
PRODID:-//Ed Snider - ECPv6.15.20//NONSGML v1.0//EN
CALSCALE:GREGORIAN
METHOD:PUBLISH
X-WR-CALNAME:Ed Snider
X-ORIGINAL-URL:https://sniderhockey.org
X-WR-CALDESC:Events for Ed Snider
REFRESH-INTERVAL;VALUE=DURATION:PT1H
X-Robots-Tag:noindex
X-PUBLISHED-TTL:PT1H
BEGIN:VTIMEZONE
TZID:UTC
BEGIN:STANDARD
TZOFFSETFROM:+0000
TZOFFSETTO:+0000
TZNAME:UTC
DTSTART:20250101T000000
END:STANDARD
END:VTIMEZONE
BEGIN:VEVENT
DTSTART;TZID=UTC:20260512T184500
DTEND;TZID=UTC:20260512T194500
DTSTAMP:20260421T095122
CREATED:20260420T174359Z
LAST-MODIFIED:20260420T174359Z
UID:10008324-1778611500-1778615100@sniderhockey.org
SUMMARY:DVHL 16u x2 Practice
DESCRIPTION:
URL:https://sniderhockey.org/event/dvhl-16u-x2-practice/2026-05-12/
LOCATION:Scanlon Recreation Center (Kensington)\, 1099 E. Venango Street Philadelphia\, PA 19134\, Philadelphia\, PA\, United States
CATEGORIES:Scanlon Recreation Center
ATTACH;FMTTYPE=image/jpeg:https://sniderhockey.org/wp-content/uploads/2025/08/Travel-Session.jpg
END:VEVENT
BEGIN:VEVENT
DTSTART;TZID=UTC:20260514T184500
DTEND;TZID=UTC:20260514T194500
DTSTAMP:20260421T095122
CREATED:20260420T174359Z
LAST-MODIFIED:20260420T174359Z
UID:10008325-1778784300-1778787900@sniderhockey.org
SUMMARY:DVHL 16u x2 Practice
DESCRIPTION:
URL:https://sniderhockey.org/event/dvhl-16u-x2-practice/2026-05-14/
LOCATION:Scanlon Recreation Center (Kensington)\, 1099 E. Venango Street Philadelphia\, PA 19134\, Philadelphia\, PA\, United States
CATEGORIES:Scanlon Recreation Center
ATTACH;FMTTYPE=image/jpeg:https://sniderhockey.org/wp-content/uploads/2025/08/Travel-Session.jpg
END:VEVENT
END:VCALENDAR